BEGIN:VCALENDAR
PRODID:-//PUBBLE//agenda//NL
VERSION:2.0
METHOD:PUBLISH
BEGIN:VEVENT
DTSTART:20260603T121500Z
DTEND:20260603T141500Z
DTSTAMP:20260425T215643Z
UID:0e279fa2-38b5-4030-8e01-1edce8f884cc
CREATED:20260425T215643Z
NAME:Workshop | Adem in, adem uit... streekbladzoetermeer.nl
X-WR-CALNAME:Workshop | Adem in, adem uit...
X-ALT-DESC;FMTTYPE=text/html:<a href='/agenda/2026/6/3/workshop-adem-in-adem-uit--167934'>/agenda/2026/6/3/workshop-adem-in-adem-uit--167934</a> || <p><strong>Word je bewuster van het effect van je ademhaling</strong></p><p><strong>Zijn de volgende uitspraken herkenbaar?&nbsp;</strong></p><p>💬 Volgens mij adem ik niet goed want ik voel het in mijn borst</p><p>💬 Als ik gespannen ben merk ik dat aan mijn ademhaling</p><p>💬 Ik zou graag mijn ademhaling willen gebruiken om te ontspannen&nbsp;</p><p>Meld je dan aan voor deze<strong>&nbsp;gratis</strong> workshop!</p><p>Ontdek of je ademhaling gezond is en wat het betekent voor je fysieke en mentale gezondheid. Je leert eenvoudige technieken die je direct kunt toepassen.</p><p><strong>Wanneer en hoe laat?</strong></p><p>📅 Datum: Woensdag 3 juni 2026&nbsp;</p><p>⏰ Tijdstip: 14:15 - 16:15 uur&nbsp;</p><p>📍 &nbsp;Locatie: inZet Buytenwegh-De Leyens, Cesar Franckrode 64, 2717 BG Zoetermeer</p><p><strong>Meer informatie en aanmelden?</strong>&nbsp;</p><p>Ga naar <a href="//www.indigowest.nl/l/1190280">www.indigowest.nl/l/1190280</a></p><p><strong>Aanmelden kan ook bij de contactpersoon van de locatie:</strong></p><p>Saloua Bouzambou, 06 38994171, <a href="mailto:Saloua@stichtingpiezo.nl">Saloua@stichtingpiezo.nl</a></p><p><strong>Of aan de balie van de locatie zelf.</strong></p><p><strong>Inhoudelijke vragen?</strong></p><p>Thuan-Nhi Truong | Coördinator GGZ Preventie Zoetermeer</p><p>06 17 64 29 05 | T.Truong@indigohaaglanden.nl</p>
DESCRIPTION:<a href='/agenda/2026/6/3/workshop-adem-in-adem-uit--167934'>/agenda/2026/6/3/workshop-adem-in-adem-uit--167934</a> || <p><strong>Word je bewuster van het effect van je ademhaling</strong></p><p><strong>Zijn de volgende uitspraken herkenbaar?&nbsp;</strong></p><p>💬 Volgens mij adem ik niet goed want ik voel het in mijn borst</p><p>💬 Als ik gespannen ben merk ik dat aan mijn ademhaling</p><p>💬 Ik zou graag mijn ademhaling willen gebruiken om te ontspannen&nbsp;</p><p>Meld je dan aan voor deze<strong>&nbsp;gratis</strong> workshop!</p><p>Ontdek of je ademhaling gezond is en wat het betekent voor je fysieke en mentale gezondheid. Je leert eenvoudige technieken die je direct kunt toepassen.</p><p><strong>Wanneer en hoe laat?</strong></p><p>📅 Datum: Woensdag 3 juni 2026&nbsp;</p><p>⏰ Tijdstip: 14:15 - 16:15 uur&nbsp;</p><p>📍 &nbsp;Locatie: inZet Buytenwegh-De Leyens, Cesar Franckrode 64, 2717 BG Zoetermeer</p><p><strong>Meer informatie en aanmelden?</strong>&nbsp;</p><p>Ga naar <a href="//www.indigowest.nl/l/1190280">www.indigowest.nl/l/1190280</a></p><p><strong>Aanmelden kan ook bij de contactpersoon van de locatie:</strong></p><p>Saloua Bouzambou, 06 38994171, <a href="mailto:Saloua@stichtingpiezo.nl">Saloua@stichtingpiezo.nl</a></p><p><strong>Of aan de balie van de locatie zelf.</strong></p><p><strong>Inhoudelijke vragen?</strong></p><p>Thuan-Nhi Truong | Coördinator GGZ Preventie Zoetermeer</p><p>06 17 64 29 05 | T.Truong@indigohaaglanden.nl</p>
LAST-MODIFIED:20260425T215643Z
LOCATION: inZet Buytenwegh - De Leyens | César Franckrode 64 Zoetermeer
SEQUENCE:0
STATUS:CONFIRMED
SUMMARY:Workshop | Adem in, adem uit...
TRANSP:OPAQUE
END:VEVENT
END:VCALENDAR
