BEGIN:VCALENDAR
PRODID:-//PUBBLE//agenda//NL
VERSION:2.0
METHOD:PUBLISH
BEGIN:VEVENT
DTSTART:20260512T103000Z
DTEND:20260512T123000Z
DTSTAMP:20260425T215628Z
UID:9a82e569-ede1-4348-a5f4-47180064b66f
CREATED:20260425T215628Z
NAME:Workshop | Ontspanningstechnieken streekbladzoetermeer.nl
X-WR-CALNAME:Workshop | Ontspanningstechnieken
X-ALT-DESC;FMTTYPE=text/html:<a href='/agenda/2026/5/12/workshop-ontspanningstechnieken-167932'>/agenda/2026/5/12/workshop-ontspanningstechnieken-167932</a> || <p><strong>Leer hoe je jezelf beter kunt ontspannen&nbsp;</strong></p><p><strong>Zijn de volgende uitspraken herkenbaar?&nbsp;</strong></p><p>💬 Ik ben zo druk en gejaagd bezig: ik kom niet meer aan ontspanning toe en kan nergens meer van genieten.&nbsp;</p><p>💬 Mijn huisarts zegt dat mijn hoofdpijn en darmklachten door de stress komen.&nbsp;</p><p>💬 Als iemand mij iets vraagt, ben ik snel geïrriteerd of geëmotioneerd.&nbsp;</p><p><strong>Meld je dan aan voor deze gratis workshop!</strong></p><p>Tijdens deze workshop leer je wat het effect is van spanning en ontspanning op je lichaam en oefen met verschillende ontspanningstechnieken.</p><p><strong>Wanneer en hoe laat?</strong></p><p>📅 Datum: dinsdag 12 mei 2026</p><p>⏰ Tijdstip: 12:30 - 14:30 uur</p><p>📍 &nbsp;Locatie: InZet Centrum, Rakkersveld 253, 2722 BN Zoetermeer</p><p><strong>Meer informatie en aanmelden?</strong>&nbsp;</p><p>Ga naar <a href="//www.indigowest.nl/l/692483">www.indigowest.nl/l/692483</a></p><p><strong>Aanmelden kan ook bij de contactpersoon van de locatie:</strong></p><p>Gioia Conte: gioia@stichtingpiezo.nl | 06-31687716</p><p><strong>Of aan de balie van de locatie zelf.</strong></p><p><strong>Inhoudelijke vragen?</strong></p><p>Thuan-Nhi Truong | Coördinator GGZ Preventie Zoetermeer</p><p>06 17 64 29 05 | T.Truong@indigohaaglanden.nl</p>
DESCRIPTION:<a href='/agenda/2026/5/12/workshop-ontspanningstechnieken-167932'>/agenda/2026/5/12/workshop-ontspanningstechnieken-167932</a> || <p><strong>Leer hoe je jezelf beter kunt ontspannen&nbsp;</strong></p><p><strong>Zijn de volgende uitspraken herkenbaar?&nbsp;</strong></p><p>💬 Ik ben zo druk en gejaagd bezig: ik kom niet meer aan ontspanning toe en kan nergens meer van genieten.&nbsp;</p><p>💬 Mijn huisarts zegt dat mijn hoofdpijn en darmklachten door de stress komen.&nbsp;</p><p>💬 Als iemand mij iets vraagt, ben ik snel geïrriteerd of geëmotioneerd.&nbsp;</p><p><strong>Meld je dan aan voor deze gratis workshop!</strong></p><p>Tijdens deze workshop leer je wat het effect is van spanning en ontspanning op je lichaam en oefen met verschillende ontspanningstechnieken.</p><p><strong>Wanneer en hoe laat?</strong></p><p>📅 Datum: dinsdag 12 mei 2026</p><p>⏰ Tijdstip: 12:30 - 14:30 uur</p><p>📍 &nbsp;Locatie: InZet Centrum, Rakkersveld 253, 2722 BN Zoetermeer</p><p><strong>Meer informatie en aanmelden?</strong>&nbsp;</p><p>Ga naar <a href="//www.indigowest.nl/l/692483">www.indigowest.nl/l/692483</a></p><p><strong>Aanmelden kan ook bij de contactpersoon van de locatie:</strong></p><p>Gioia Conte: gioia@stichtingpiezo.nl | 06-31687716</p><p><strong>Of aan de balie van de locatie zelf.</strong></p><p><strong>Inhoudelijke vragen?</strong></p><p>Thuan-Nhi Truong | Coördinator GGZ Preventie Zoetermeer</p><p>06 17 64 29 05 | T.Truong@indigohaaglanden.nl</p>
LAST-MODIFIED:20260425T215628Z
LOCATION: inZet Centrum | Rakkersveld 253 Zoetermeer
SEQUENCE:0
STATUS:CONFIRMED
SUMMARY:Workshop | Ontspanningstechnieken
TRANSP:OPAQUE
END:VEVENT
END:VCALENDAR
