BEGIN:VCALENDAR
PRODID:-//PUBBLE//agenda//NL
VERSION:2.0
METHOD:PUBLISH
BEGIN:VEVENT
DTSTART:20260425T070000Z
DTEND:20260425T150000Z
DTSTAMP:20260425T143549Z
UID:fbd38c32-0a9b-4d2c-8ff9-4048b8a2b1df
CREATED:20260425T143549Z
NAME:8 uurs bouw Marathon Zoetermeerse ModelBouw Club streekbladzoetermeer.nl
X-WR-CALNAME:8 uurs bouw Marathon Zoetermeerse ModelBouw Club
X-ALT-DESC;FMTTYPE=text/html:<a href='/agenda/2026/4/25/8-uurs-bouw-marathon-zoetermeerse-modelbouw-club-168785'>/agenda/2026/4/25/8-uurs-bouw-marathon-zoetermeerse-modelbouw-club-168785</a> || <p>Na het succes van het 50 jarig bestaan in november was er &nbsp;behoefte aan een dag waarbij het accent ligt op uitwisselen van kennis en ervaring bij de verschillende modelbouw disciplines.&nbsp;</p><p>Dat laten onze leden zien aan de hand van verschillende meegebrachte creatie’s op de showtafel. Maar ook door verschillende demonstraties van leden in plastic, papier, hout, modeltreinen, airbrush spuiten, etc.&nbsp;</p><p>Een mooie gelegenheid om alle soorten van modelbouw tegelijk te bekijken en informatie in te winnen over deze boeiende hobby.</p><p>Ben je jong of oud, geintereseerd in modelbouw, kom dan zeker kijken.&nbsp;</p><p>U bent van harte welkom. De deur gaat open om 9.00 uur en sluit om 17.00 uur.</p>
DESCRIPTION:<a href='/agenda/2026/4/25/8-uurs-bouw-marathon-zoetermeerse-modelbouw-club-168785'>/agenda/2026/4/25/8-uurs-bouw-marathon-zoetermeerse-modelbouw-club-168785</a> || <p>Na het succes van het 50 jarig bestaan in november was er &nbsp;behoefte aan een dag waarbij het accent ligt op uitwisselen van kennis en ervaring bij de verschillende modelbouw disciplines.&nbsp;</p><p>Dat laten onze leden zien aan de hand van verschillende meegebrachte creatie’s op de showtafel. Maar ook door verschillende demonstraties van leden in plastic, papier, hout, modeltreinen, airbrush spuiten, etc.&nbsp;</p><p>Een mooie gelegenheid om alle soorten van modelbouw tegelijk te bekijken en informatie in te winnen over deze boeiende hobby.</p><p>Ben je jong of oud, geintereseerd in modelbouw, kom dan zeker kijken.&nbsp;</p><p>U bent van harte welkom. De deur gaat open om 9.00 uur en sluit om 17.00 uur.</p>
LAST-MODIFIED:20260425T143549Z
LOCATION: Wijk - en Buurtcentrum Kom-Op | Karel Doormanlaan 2B Zoetermeer
SEQUENCE:0
STATUS:CONFIRMED
SUMMARY:8 uurs bouw Marathon Zoetermeerse ModelBouw Club
TRANSP:OPAQUE
END:VEVENT
END:VCALENDAR
