BEGIN:VCALENDAR
PRODID:-//PUBBLE//agenda//NL
VERSION:2.0
METHOD:PUBLISH
BEGIN:VEVENT
DTSTART:20260708T180000Z
DTEND:20260719T210000Z
DTSTAMP:20260425T215831Z
UID:5e08fa80-3076-4dc4-8a27-1f0cb0e1afa7
CREATED:20260425T215831Z
NAME:The Highland King streekbladzoetermeer.nl
X-WR-CALNAME:The Highland King
X-ALT-DESC;FMTTYPE=text/html:<a href='/agenda/2026/7/8/the-highland-king-168726'>/agenda/2026/7/8/the-highland-king-168726</a> || <p>The Highland King</p><p>Een nieuwe spectaculaire openluchtmusical</p><p>Schotland, 1745 - Kapitein Aeneas Mackintosh wordt opgeroepen om te vechten voor de Engelse koning tegen de Schotse rebellen. Zijn vrouw Anne is echter op de hand van de Schotse clans. Terwijl haar man zich aansluit bij de Black Watch, weet Anne de bevolking in de Highlands te mobiliseren en vormt een volksleger in de Highlands. Wanneer de Schotse leider “Bonnie Prince” Charlie van haar opstand hoort, wil hij hoe dan ook kennismaken met deze bijzondere vrouw. Zij aan zij leiden Charlie en Anne het verzet tegen de Engelsen. Tot ze uiteindelijk het Engelse leger treffen tijdens de Slag bij Culloden.</p><p>De vrijheidsstrijd van de Schotten komt tot leven in een nieuwe spectaculaire openluchtmusical in het Buytenpark Zoetermeer.</p>
DESCRIPTION:<a href='/agenda/2026/7/8/the-highland-king-168726'>/agenda/2026/7/8/the-highland-king-168726</a> || <p>The Highland King</p><p>Een nieuwe spectaculaire openluchtmusical</p><p>Schotland, 1745 - Kapitein Aeneas Mackintosh wordt opgeroepen om te vechten voor de Engelse koning tegen de Schotse rebellen. Zijn vrouw Anne is echter op de hand van de Schotse clans. Terwijl haar man zich aansluit bij de Black Watch, weet Anne de bevolking in de Highlands te mobiliseren en vormt een volksleger in de Highlands. Wanneer de Schotse leider “Bonnie Prince” Charlie van haar opstand hoort, wil hij hoe dan ook kennismaken met deze bijzondere vrouw. Zij aan zij leiden Charlie en Anne het verzet tegen de Engelsen. Tot ze uiteindelijk het Engelse leger treffen tijdens de Slag bij Culloden.</p><p>De vrijheidsstrijd van de Schotten komt tot leven in een nieuwe spectaculaire openluchtmusical in het Buytenpark Zoetermeer.</p>
LAST-MODIFIED:20260425T215831Z
LOCATION: Buytenpark Theater bij Snowworld | Buytenparklaan 30 Zoetermeer
SEQUENCE:0
STATUS:CONFIRMED
SUMMARY:The Highland King
TRANSP:OPAQUE
END:VEVENT
END:VCALENDAR
