BEGIN:VCALENDAR
PRODID:-//PUBBLE//agenda//NL
VERSION:2.0
METHOD:PUBLISH
BEGIN:VEVENT
DTSTART:20260507T183000Z
DTEND:20260507T215000Z
DTSTAMP:20260425T215831Z
UID:df356ac3-4678-476e-a9dc-61bc468ca7c4
CREATED:20260425T215831Z
NAME:Rock en Powerblues in het Podiumcafé de Boerderij streekbladzoetermeer.nl
X-WR-CALNAME:Rock en Powerblues in het Podiumcafé de Boerderij
X-ALT-DESC;FMTTYPE=text/html:<a href='/agenda/2026/5/7/rock-en-powerblues-in-het-podiumcafe-de-boerderij-168716'>/agenda/2026/5/7/rock-en-powerblues-in-het-podiumcafe-de-boerderij-168716</a> || <p><strong>Moris Hart</strong> is een gedreven <strong>coverband&nbsp;</strong>die een combinatie van blues en rock speelt, aangevuld met soul en funk invloeden.</p><p>Denk aan artiesten zoals Beth Hart, Joe Bonamassa en Tedeschi Trucks band. Zoals ze zelf zeggen: a Rock and Blues Experience. Een groot deel van het repertoire bestaat uit een Beth Hart tribute. Moris Hart bestaat uit 4 doorgewinterde muzikanten die garant staan voor een energieke set met lekkere grooves, funky solo’s en geweldige zang: Olga, zang; Jako, gitaar; Arjen, basgitaar; Henno, drums. <strong>Donderdagavond 7 mei vanaf 20:30 uur</strong>. De deuren gaan om 19:30 uur open en de toegang is gratis. Meer informatie op <a href="//www.poppodiumboerderij.nl/programma/moris-hart/">www.poppodiumboerderij.nl/programma/moris-hart</a>&nbsp;of <a href="//www.morishartbluesband.webnode.nl">www.morishartbluesband.webnode.nl</a>.</p>
DESCRIPTION:<a href='/agenda/2026/5/7/rock-en-powerblues-in-het-podiumcafe-de-boerderij-168716'>/agenda/2026/5/7/rock-en-powerblues-in-het-podiumcafe-de-boerderij-168716</a> || <p><strong>Moris Hart</strong> is een gedreven <strong>coverband&nbsp;</strong>die een combinatie van blues en rock speelt, aangevuld met soul en funk invloeden.</p><p>Denk aan artiesten zoals Beth Hart, Joe Bonamassa en Tedeschi Trucks band. Zoals ze zelf zeggen: a Rock and Blues Experience. Een groot deel van het repertoire bestaat uit een Beth Hart tribute. Moris Hart bestaat uit 4 doorgewinterde muzikanten die garant staan voor een energieke set met lekkere grooves, funky solo’s en geweldige zang: Olga, zang; Jako, gitaar; Arjen, basgitaar; Henno, drums. <strong>Donderdagavond 7 mei vanaf 20:30 uur</strong>. De deuren gaan om 19:30 uur open en de toegang is gratis. Meer informatie op <a href="//www.poppodiumboerderij.nl/programma/moris-hart/">www.poppodiumboerderij.nl/programma/moris-hart</a>&nbsp;of <a href="//www.morishartbluesband.webnode.nl">www.morishartbluesband.webnode.nl</a>.</p>
LAST-MODIFIED:20260425T215831Z
LOCATION: Poppodium Boerderij | Amerikaweg 145 Zoetermeer
SEQUENCE:0
STATUS:CONFIRMED
SUMMARY:Rock en Powerblues in het Podiumcafé de Boerderij
TRANSP:OPAQUE
END:VEVENT
END:VCALENDAR
