BEGIN:VCALENDAR
PRODID:-//PUBBLE//agenda//NL
VERSION:2.0
METHOD:PUBLISH
BEGIN:VEVENT
DTSTART:20260521T120000Z
DTEND:20260521T143000Z
DTSTAMP:20260425T220543Z
UID:5b484e36-ea73-40cb-b7b7-d5a7e7ea4394
CREATED:20260425T220543Z
NAME:Schilderen voor beginners én gevordenen streekbladzoetermeer.nl
X-WR-CALNAME:Schilderen voor beginners én gevordenen
X-ALT-DESC;FMTTYPE=text/html:<a href='/agenda/2026/5/21/schilderen-voor-beginners-en-gevordenen-168714'>/agenda/2026/5/21/schilderen-voor-beginners-en-gevordenen-168714</a> || <p>Wil je een nieuwe hobby uitproberen of je hobby weer oppakken? Kom je er thuis niet aan toe? Zoek je de gezelligheid van in een groep werken? Wil je je (verder) ontwikkelen in het <strong>schilderen of tekenen</strong>? Dat kan!! In het <strong>Atelier van Roeting Art</strong> kun je aan de slag op <strong>donderdagmiddag 21 mei 2026 van 14:00 tot 16:30 uur</strong> . Dat mag met je eigen materiaal óf dat van het atelier. Kunstenares Olga Roeting helpt je op weg en geeft adviezen. Het atelier is ruim, licht en rolstoeltoegankelijk en is gelegen tegenover winkelcentrum Noordhove, <strong>Renzo Pianolijn 17 in Zoetermeer</strong>. Kosten: Werken met eigen materiaal: €17,50. Werken met materiaal van atelier, basisdoek 30x40cm: €24,00 (grotere werken in overleg). Reserveren kan via e-mail: <a href="mailto:info@roeting-art.nl">info@roeting-art.nl</a>. Voor meer informatie ga naar <a href="//www.roeting-art.nl">www.roeting-art.nl</a>.</p>
DESCRIPTION:<a href='/agenda/2026/5/21/schilderen-voor-beginners-en-gevordenen-168714'>/agenda/2026/5/21/schilderen-voor-beginners-en-gevordenen-168714</a> || <p>Wil je een nieuwe hobby uitproberen of je hobby weer oppakken? Kom je er thuis niet aan toe? Zoek je de gezelligheid van in een groep werken? Wil je je (verder) ontwikkelen in het <strong>schilderen of tekenen</strong>? Dat kan!! In het <strong>Atelier van Roeting Art</strong> kun je aan de slag op <strong>donderdagmiddag 21 mei 2026 van 14:00 tot 16:30 uur</strong> . Dat mag met je eigen materiaal óf dat van het atelier. Kunstenares Olga Roeting helpt je op weg en geeft adviezen. Het atelier is ruim, licht en rolstoeltoegankelijk en is gelegen tegenover winkelcentrum Noordhove, <strong>Renzo Pianolijn 17 in Zoetermeer</strong>. Kosten: Werken met eigen materiaal: €17,50. Werken met materiaal van atelier, basisdoek 30x40cm: €24,00 (grotere werken in overleg). Reserveren kan via e-mail: <a href="mailto:info@roeting-art.nl">info@roeting-art.nl</a>. Voor meer informatie ga naar <a href="//www.roeting-art.nl">www.roeting-art.nl</a>.</p>
LAST-MODIFIED:20260425T220543Z
LOCATION: Roeting Art | Renzo Pianolijn 17 Zoetermeer
SEQUENCE:0
STATUS:CONFIRMED
SUMMARY:Schilderen voor beginners én gevordenen
TRANSP:OPAQUE
END:VEVENT
END:VCALENDAR
