BEGIN:VCALENDAR
PRODID:-//PUBBLE//agenda//NL
VERSION:2.0
METHOD:PUBLISH
BEGIN:VEVENT
DTSTART:20260425T070000Z
DTEND:20260503T130000Z
DTSTAMP:20260423T150618Z
UID:a5f0fe82-2574-44d7-96ba-442290791ed2
CREATED:20260423T150618Z
NAME:Wandeling planten en libellen streekbladzoetermeer.nl
X-WR-CALNAME:Wandeling planten en libellen
X-ALT-DESC;FMTTYPE=text/html:<a href='/agenda/2026/4/25/wandeling-planten-en-libellen-168643'>/agenda/2026/4/25/wandeling-planten-en-libellen-168643</a> || <p>Ook dit jaar organiseert IVN/KNNV weer de Wilde Plantenweken met een informatieve route in het Libellenreservaat in Rokkeveen! Een rijke biodiversiteit levert ons niet alleen voedsel, maar ook drinkbaar water, zuurstof en zuivere lucht. En zorgt voor eindeloos veel verwondering en inspiratie. Dat vindt IVN/KNNV een mooie aanleiding om ook dit jaar weer aandacht te geven aan de bloeiende wilde planten en de insecten in Zoetermeer. De eerste ronde met de informatiebordjes over de planten staat er van 25 april tot het weekend van 3 mei. Verder verzorgen we dit jaar een informatieve ‘galerij’ met foto’s en wetenswaardigheden over libellen: daarmee brengen we een ode aan de prachtige vliegers waar dit gebiedje zijn naam aan te danken heeft. Iedereen kan op eigen moment en tempo door het gebied struinen en op de informatiebordjes allerlei interessante dingen te weten komen over de planten en libellen. Info op ivn.nl/afdeling/zoetermeer/</p>
DESCRIPTION:<a href='/agenda/2026/4/25/wandeling-planten-en-libellen-168643'>/agenda/2026/4/25/wandeling-planten-en-libellen-168643</a> || <p>Ook dit jaar organiseert IVN/KNNV weer de Wilde Plantenweken met een informatieve route in het Libellenreservaat in Rokkeveen! Een rijke biodiversiteit levert ons niet alleen voedsel, maar ook drinkbaar water, zuurstof en zuivere lucht. En zorgt voor eindeloos veel verwondering en inspiratie. Dat vindt IVN/KNNV een mooie aanleiding om ook dit jaar weer aandacht te geven aan de bloeiende wilde planten en de insecten in Zoetermeer. De eerste ronde met de informatiebordjes over de planten staat er van 25 april tot het weekend van 3 mei. Verder verzorgen we dit jaar een informatieve ‘galerij’ met foto’s en wetenswaardigheden over libellen: daarmee brengen we een ode aan de prachtige vliegers waar dit gebiedje zijn naam aan te danken heeft. Iedereen kan op eigen moment en tempo door het gebied struinen en op de informatiebordjes allerlei interessante dingen te weten komen over de planten en libellen. Info op ivn.nl/afdeling/zoetermeer/</p>
LAST-MODIFIED:20260423T150618Z
LOCATION: Libellenreservaat | Kurkhout 100 Zoetermeer
SEQUENCE:0
STATUS:CONFIRMED
SUMMARY:Wandeling planten en libellen
TRANSP:OPAQUE
END:VEVENT
END:VCALENDAR
