BEGIN:VCALENDAR
PRODID:-//PUBBLE//agenda//NL
VERSION:2.0
METHOD:PUBLISH
BEGIN:VEVENT
DTSTART:20260514T110000Z
DTEND:20260525T150000Z
DTSTAMP:20260425T151934Z
UID:6183db62-33ed-4dd7-bd4a-8087643ff5f6
CREATED:20260425T151934Z
NAME:Feest van de Geest Zoetermeer streekbladzoetermeer.nl
X-WR-CALNAME:Feest van de Geest Zoetermeer
X-ALT-DESC;FMTTYPE=text/html:<a href='/agenda/2026/5/14/feest-van-de-geest-zoetermeer-168627'>/agenda/2026/5/14/feest-van-de-geest-zoetermeer-168627</a> || <p><strong>ELKAAR VERSTAAN</strong> &nbsp;&nbsp;</p><p><strong>MEERDAAGSE TENTOONSTELLING 14 T/M 25 MEI 2026</strong></p><p><strong>Ontmoeting tussen kerk, kunst en publiek </strong></p><p>Kunst kan mensen geweldig raken en aan het denken zetten, daarom doen allerlei kerken in Zoetermeer elke twee jaar mee aan het Feest van de Geest. Dit is een landelijk initiatief dat in diverse regio’s wordt georganiseerd.</p><p>In de periode tussen Hemelvaart en Pinksteren zijn tien Zoetermeerse kerken zes middagen lang open voor een breed publiek. Kunstenaars presenteren en exposeren een nieuw gemaakt werk, geïnspireerd door het thema<strong>&nbsp;‘Elkaar verstaan’ </strong>en het Pinksterfeest. Daarnaast exposeren ze ook een deel van hun andere werk.</p><p>Dé kans voor kunstliefhebbers om een kijkje te nemen in de kerk. De deur is open, er is geen drempel en ... kunst verbindt. Dat is precies wat we met beide handen moeten aangrijpen: die verbinding zoeken. Elkaar verstaan is een heel actueel thema in een tijd van polarisatie en vervreemding. Tijdens de tentoonstelling is er op veel plekken ook gelegenheid om met de kunstenaars in gesprek te gaan.</p><p>Er is een folder uitgebracht met daarin de indeling van de kunstenaars in de kerkgebouwen en een fietsroute. Deze folder staat ook op onze website: https://feestvandegeestzoetermeer.nl </p><p>Welkom tussen 13.00 en 17.00 uur bij de beeldende kunst-en-kerk-expositie Feest van de Geest op Hemelvaartsdag 14 mei, zaterdag en zondag 16 &amp; 17 mei, zaterdag 23 mei, Pinksteren zondag en maandag 24 &amp; 25 mei.<em>&nbsp;(Kijk voor afwijkende openingstijden even op onze website en raadpleeg de folder.)</em></p>
DESCRIPTION:<a href='/agenda/2026/5/14/feest-van-de-geest-zoetermeer-168627'>/agenda/2026/5/14/feest-van-de-geest-zoetermeer-168627</a> || <p><strong>ELKAAR VERSTAAN</strong> &nbsp;&nbsp;</p><p><strong>MEERDAAGSE TENTOONSTELLING 14 T/M 25 MEI 2026</strong></p><p><strong>Ontmoeting tussen kerk, kunst en publiek </strong></p><p>Kunst kan mensen geweldig raken en aan het denken zetten, daarom doen allerlei kerken in Zoetermeer elke twee jaar mee aan het Feest van de Geest. Dit is een landelijk initiatief dat in diverse regio’s wordt georganiseerd.</p><p>In de periode tussen Hemelvaart en Pinksteren zijn tien Zoetermeerse kerken zes middagen lang open voor een breed publiek. Kunstenaars presenteren en exposeren een nieuw gemaakt werk, geïnspireerd door het thema<strong>&nbsp;‘Elkaar verstaan’ </strong>en het Pinksterfeest. Daarnaast exposeren ze ook een deel van hun andere werk.</p><p>Dé kans voor kunstliefhebbers om een kijkje te nemen in de kerk. De deur is open, er is geen drempel en ... kunst verbindt. Dat is precies wat we met beide handen moeten aangrijpen: die verbinding zoeken. Elkaar verstaan is een heel actueel thema in een tijd van polarisatie en vervreemding. Tijdens de tentoonstelling is er op veel plekken ook gelegenheid om met de kunstenaars in gesprek te gaan.</p><p>Er is een folder uitgebracht met daarin de indeling van de kunstenaars in de kerkgebouwen en een fietsroute. Deze folder staat ook op onze website: https://feestvandegeestzoetermeer.nl </p><p>Welkom tussen 13.00 en 17.00 uur bij de beeldende kunst-en-kerk-expositie Feest van de Geest op Hemelvaartsdag 14 mei, zaterdag en zondag 16 &amp; 17 mei, zaterdag 23 mei, Pinksteren zondag en maandag 24 &amp; 25 mei.<em>&nbsp;(Kijk voor afwijkende openingstijden even op onze website en raadpleeg de folder.)</em></p>
LAST-MODIFIED:20260425T151934Z
LOCATION: Oude Kerk | Dorpsstraat 59 Zoetermeer
SEQUENCE:0
STATUS:CONFIRMED
SUMMARY:Feest van de Geest Zoetermeer
TRANSP:OPAQUE
END:VEVENT
END:VCALENDAR
