BEGIN:VCALENDAR
PRODID:-//PUBBLE//agenda//NL
VERSION:2.0
METHOD:PUBLISH
BEGIN:VEVENT
DTSTART:20260520T123000Z
DTEND:20260624T140000Z
DTSTAMP:20260425T201053Z
UID:b6ab58c0-e8a4-4f9e-8793-410f52f2d7b5
CREATED:20260425T201053Z
NAME:Move the City (Meerzicht) streekbladzoetermeer.nl
X-WR-CALNAME:Move the City (Meerzicht)
X-ALT-DESC;FMTTYPE=text/html:<a href='/agenda/2026/5/20/move-the-city-meerzicht--168552'>/agenda/2026/5/20/move-the-city-meerzicht--168552</a> || <p>Binnenkort start in zes wijken in Zoetermeer Move the City: een bijzonder dansproject voor kinderen van 7 tot en met 12 jaar. In een reeks van zes lessen werken zij toe naar een gezamenlijke finale in de theaterzaal van CKC &amp; partners.</p><p>Data: 20 mei, 27 mei, 03 juni, 10 juni, 17 juni, 24 juni</p><p>Tijdstip: 14:30 uur tot 16:00 uur</p><p>Finale in het CKC: 01 juli 2026 (16:00 uur tot 17:30 uur)</p><p>Wat dit project bijzonder maakt, is de combinatie van beweging en creativiteit. Kinderen zijn actief bezig, maar ontwikkelen tegelijkertijd hun expressie en zelfvertrouwen. Onder begeleiding van professionele dansdocenten maken ze kennis met een dansstijl die bij hen past: jazz (Kim), afrodans (Santosh) of urban pop (Lani).</p><p>Tijdens de lessen ontstaat stap voor stap een choreografie. De kinderen leren samenwerken, durven zich meer te laten zien en ervaren hoe het is om ergens naartoe te werken. Elke wijkgroep sluit de reeks af met een eigen presentatie, waarna alle deelnemers samenkomen voor de finale.</p><p>In de theaterzaal van CKC &amp; partners komen de verschillende groepen bij elkaar voor de Dance Battle: een energiek slotmoment waarin alles samenkomt. Voor veel kinderen is dit een eerste kennismaking met optreden op een professioneel podium.</p><p>Aanmelden is mogelijk via: https://vrijetijdzoetermeer.nl/movethecity</p><p>Move the City is een samenwerking tussen Sport en Wijck en biedt kinderen niet alleen danslessen, maar een ervaring waarin bewegen, plezier, ontwikkeling en samenzijn centraal staan. </p>
DESCRIPTION:<a href='/agenda/2026/5/20/move-the-city-meerzicht--168552'>/agenda/2026/5/20/move-the-city-meerzicht--168552</a> || <p>Binnenkort start in zes wijken in Zoetermeer Move the City: een bijzonder dansproject voor kinderen van 7 tot en met 12 jaar. In een reeks van zes lessen werken zij toe naar een gezamenlijke finale in de theaterzaal van CKC &amp; partners.</p><p>Data: 20 mei, 27 mei, 03 juni, 10 juni, 17 juni, 24 juni</p><p>Tijdstip: 14:30 uur tot 16:00 uur</p><p>Finale in het CKC: 01 juli 2026 (16:00 uur tot 17:30 uur)</p><p>Wat dit project bijzonder maakt, is de combinatie van beweging en creativiteit. Kinderen zijn actief bezig, maar ontwikkelen tegelijkertijd hun expressie en zelfvertrouwen. Onder begeleiding van professionele dansdocenten maken ze kennis met een dansstijl die bij hen past: jazz (Kim), afrodans (Santosh) of urban pop (Lani).</p><p>Tijdens de lessen ontstaat stap voor stap een choreografie. De kinderen leren samenwerken, durven zich meer te laten zien en ervaren hoe het is om ergens naartoe te werken. Elke wijkgroep sluit de reeks af met een eigen presentatie, waarna alle deelnemers samenkomen voor de finale.</p><p>In de theaterzaal van CKC &amp; partners komen de verschillende groepen bij elkaar voor de Dance Battle: een energiek slotmoment waarin alles samenkomt. Voor veel kinderen is dit een eerste kennismaking met optreden op een professioneel podium.</p><p>Aanmelden is mogelijk via: https://vrijetijdzoetermeer.nl/movethecity</p><p>Move the City is een samenwerking tussen Sport en Wijck en biedt kinderen niet alleen danslessen, maar een ervaring waarin bewegen, plezier, ontwikkeling en samenzijn centraal staan. </p>
LAST-MODIFIED:20260425T201053Z
LOCATION: Gymzaal Kerkenbos | Kerkenbos 10 Zoetermeer
SEQUENCE:0
STATUS:CONFIRMED
SUMMARY:Move the City (Meerzicht)
TRANSP:OPAQUE
END:VEVENT
END:VCALENDAR
