BEGIN:VCALENDAR
PRODID:-//PUBBLE//agenda//NL
VERSION:2.0
METHOD:PUBLISH
BEGIN:VEVENT
DTSTART:20260424T170000Z
DTEND:20260424T190000Z
DTSTAMP:20260423T144152Z
UID:c34fc4e9-ca80-415a-ac70-0c242769f1fc
CREATED:20260423T144152Z
NAME:BookTalk streekbladzoetermeer.nl
X-WR-CALNAME:BookTalk
X-ALT-DESC;FMTTYPE=text/html:<a href='/agenda/2026/4/24/booktalk-168480'>/agenda/2026/4/24/booktalk-168480</a> || <p>Fantasy &amp; Mysterie: Caraval van Stephanie Garber</p><p>We lezen en bespreken met elkaar het boek Caraval van Stephanie Garber. Voorafgaand aan de BookTalk kun je meedoen aan een mysterieuze creatief schrijven opdracht die helemaal past bij het boek. Natuurlijk met iets lekkers te eten en drinken erbij!</p><p>Caraval</p><p>De zussen Scarlett en Donatella ontvluchten uit angst voor hun wrede vader het kleine, afgelegen eiland waar ze wonen. Ze worden daarbij geholpen door de o zo verleidelijke maar onuitstaanbare Julian. Ze komen terecht op Dromeneiland, waar de jaarlijkse voorstelling van Caraval wordt gehouden. Het publiek speelt mee in een dodelijk spel en moet achterhalen wat fantasie is en wat echt. Vlak na aankomst op het eiland verdwijnt Donatella, en Scarlett kan maar aan één ding denken: haar zus terugvinden voor de boosaardige meester van Caraval haar vindt en er doden vallen.</p><p>Bij BookTalk kun je andere lezers ontmoeten die van dezelfde boeken houden als jij! Een gezellige avond inclusief een lekker hapje en drankje.</p><p>Deelnemen</p><p>De BookTalk is gratis, je kunt een kaartje reserveren via deze pagina. Ben je lid van de bibliotheek? Dan krijg je het boek gratis van ons! Het boek kun je van tevoren ophalen bij een van onze vestigingen en lezen voor de BookTalk. Je kunt in je reservering aangeven bij welke vestiging je het boek wilt ophalen. Ben je geen lid van de bibliotheek? Dan ben je nog steeds van harte welkom om gratis deel te nemen aan de BookTalk.</p><p>De BookTalk is in het Forum op de YA-afdeling. BookTalk is een bijeenkomst voor jongeren en jongvolwassenen tot 27 jaar.</p>
DESCRIPTION:<a href='/agenda/2026/4/24/booktalk-168480'>/agenda/2026/4/24/booktalk-168480</a> || <p>Fantasy &amp; Mysterie: Caraval van Stephanie Garber</p><p>We lezen en bespreken met elkaar het boek Caraval van Stephanie Garber. Voorafgaand aan de BookTalk kun je meedoen aan een mysterieuze creatief schrijven opdracht die helemaal past bij het boek. Natuurlijk met iets lekkers te eten en drinken erbij!</p><p>Caraval</p><p>De zussen Scarlett en Donatella ontvluchten uit angst voor hun wrede vader het kleine, afgelegen eiland waar ze wonen. Ze worden daarbij geholpen door de o zo verleidelijke maar onuitstaanbare Julian. Ze komen terecht op Dromeneiland, waar de jaarlijkse voorstelling van Caraval wordt gehouden. Het publiek speelt mee in een dodelijk spel en moet achterhalen wat fantasie is en wat echt. Vlak na aankomst op het eiland verdwijnt Donatella, en Scarlett kan maar aan één ding denken: haar zus terugvinden voor de boosaardige meester van Caraval haar vindt en er doden vallen.</p><p>Bij BookTalk kun je andere lezers ontmoeten die van dezelfde boeken houden als jij! Een gezellige avond inclusief een lekker hapje en drankje.</p><p>Deelnemen</p><p>De BookTalk is gratis, je kunt een kaartje reserveren via deze pagina. Ben je lid van de bibliotheek? Dan krijg je het boek gratis van ons! Het boek kun je van tevoren ophalen bij een van onze vestigingen en lezen voor de BookTalk. Je kunt in je reservering aangeven bij welke vestiging je het boek wilt ophalen. Ben je geen lid van de bibliotheek? Dan ben je nog steeds van harte welkom om gratis deel te nemen aan de BookTalk.</p><p>De BookTalk is in het Forum op de YA-afdeling. BookTalk is een bijeenkomst voor jongeren en jongvolwassenen tot 27 jaar.</p>
LAST-MODIFIED:20260423T144152Z
LOCATION: Forum/Bibliotheek | Stadhuisplein 1 Zoetermeer
SEQUENCE:0
STATUS:CONFIRMED
SUMMARY:BookTalk
TRANSP:OPAQUE
END:VEVENT
END:VCALENDAR
