BEGIN:VCALENDAR
PRODID:-//PUBBLE//agenda//NL
VERSION:2.0
METHOD:PUBLISH
BEGIN:VEVENT
DTSTART:20260429T133000Z
DTEND:20260429T142300Z
DTSTAMP:20260421T091633Z
UID:38aac502-529f-4841-980b-c1caf41d9a8c
CREATED:20260421T091633Z
NAME:BoekenBabbels Rokkeveen streekbladzoetermeer.nl
X-WR-CALNAME:BoekenBabbels Rokkeveen
X-ALT-DESC;FMTTYPE=text/html:<a href='/agenda/2026/4/29/boekenbabbels-rokkeveen-168475'>/agenda/2026/4/29/boekenbabbels-rokkeveen-168475</a> || <p>Heb je een mooi boek gelezen dat je graag wilt aanraden? Wil je je leeservaringen delen en nieuwe boeken ontdekken? Dan is BoekenBabbels Rokkeveen misschien iets voor jou!</p><p>Tijdens BoekenBabbels Rokkeveen kun je in een gezellige, informele sfeer in gesprek gaan met andere lezers. Onder het genot van een kopje koffie of thee bespreek je de boeken die je gelezen hebt, je favoriete personages of een verhaal dat je bijbleef. Deel je eigen leestips en laat je inspireren door de tips van anderen. Of je nu veel leest of af en toe een boek oppakt, iedereen is welkom.</p><p>Data &amp; deelnameDeelname is gratis en aanmelden is niet nodig. Schuif gewoon aan! BoekenBabbels Rokkeveen vindt plaats elke laatste woensdag van de maand van 15:30 tot 16:30 uur in wijkbibliotheek Rokkeveen.</p>
DESCRIPTION:<a href='/agenda/2026/4/29/boekenbabbels-rokkeveen-168475'>/agenda/2026/4/29/boekenbabbels-rokkeveen-168475</a> || <p>Heb je een mooi boek gelezen dat je graag wilt aanraden? Wil je je leeservaringen delen en nieuwe boeken ontdekken? Dan is BoekenBabbels Rokkeveen misschien iets voor jou!</p><p>Tijdens BoekenBabbels Rokkeveen kun je in een gezellige, informele sfeer in gesprek gaan met andere lezers. Onder het genot van een kopje koffie of thee bespreek je de boeken die je gelezen hebt, je favoriete personages of een verhaal dat je bijbleef. Deel je eigen leestips en laat je inspireren door de tips van anderen. Of je nu veel leest of af en toe een boek oppakt, iedereen is welkom.</p><p>Data &amp; deelnameDeelname is gratis en aanmelden is niet nodig. Schuif gewoon aan! BoekenBabbels Rokkeveen vindt plaats elke laatste woensdag van de maand van 15:30 tot 16:30 uur in wijkbibliotheek Rokkeveen.</p>
LAST-MODIFIED:20260421T091633Z
LOCATION: Wijkbibliotheek Rokkeveen | Nathaliegang 81 Zoetermeer
SEQUENCE:0
STATUS:CONFIRMED
SUMMARY:BoekenBabbels Rokkeveen
TRANSP:OPAQUE
END:VEVENT
END:VCALENDAR
