BEGIN:VCALENDAR
PRODID:-//PUBBLE//agenda//NL
VERSION:2.0
METHOD:PUBLISH
BEGIN:VEVENT
DTSTART:20260426T180000Z
DTEND:20260426T190000Z
DTSTAMP:20260425T142752Z
UID:4aa52d0e-1096-4f10-8f2b-72e9b6958c73
CREATED:20260425T142752Z
NAME:Taizéviering in de Moeder Teresakerk streekbladzoetermeer.nl
X-WR-CALNAME:Taizéviering in de Moeder Teresakerk
X-ALT-DESC;FMTTYPE=text/html:<a href='/agenda/2026/4/26/taizeviering-in-de-moeder-teresakerk-168441'>/agenda/2026/4/26/taizeviering-in-de-moeder-teresakerk-168441</a> || <p>Op zondag 26 april is er weer een Taizéviering in de Moeder Teresakerk (Moeder Teresasingel 100, tegenover de watertoren in Rokkeveen). Om 20.00 uur start de viering. Deze is volledig in de traditie van Taizé: oecumenisch, meditatief met veel liederen, gebeden en stilte. Iedereen – van jong tot oud en van alle geloofsrichtingen - is welkom.</p><p>Om 19.30 uur starten we met het doornemen van de liederen van deze avond. Als je een muziekinstrument kunt bespelen, neem deze dan mee.</p><p>Inlichtingen: Jos Mooren (06 – 51 245 641)</p>
DESCRIPTION:<a href='/agenda/2026/4/26/taizeviering-in-de-moeder-teresakerk-168441'>/agenda/2026/4/26/taizeviering-in-de-moeder-teresakerk-168441</a> || <p>Op zondag 26 april is er weer een Taizéviering in de Moeder Teresakerk (Moeder Teresasingel 100, tegenover de watertoren in Rokkeveen). Om 20.00 uur start de viering. Deze is volledig in de traditie van Taizé: oecumenisch, meditatief met veel liederen, gebeden en stilte. Iedereen – van jong tot oud en van alle geloofsrichtingen - is welkom.</p><p>Om 19.30 uur starten we met het doornemen van de liederen van deze avond. Als je een muziekinstrument kunt bespelen, neem deze dan mee.</p><p>Inlichtingen: Jos Mooren (06 – 51 245 641)</p>
LAST-MODIFIED:20260425T142752Z
LOCATION: Moeder Teresakerk | Moeder Teresasingel 100 Zoetermeer
SEQUENCE:0
STATUS:CONFIRMED
SUMMARY:Taizéviering in de Moeder Teresakerk
TRANSP:OPAQUE
END:VEVENT
END:VCALENDAR
