BEGIN:VCALENDAR
PRODID:-//PUBBLE//agenda//NL
VERSION:2.0
METHOD:PUBLISH
BEGIN:VEVENT
DTSTART:20270326T173000Z
DTEND:20270326T213000Z
DTSTAMP:20260426T000404Z
UID:dd5071fa-c9ef-432c-bb5c-fca1f47f613a
CREATED:20260426T000404Z
NAME:The Dutch Queen streekbladzoetermeer.nl
X-WR-CALNAME:The Dutch Queen
X-ALT-DESC;FMTTYPE=text/html:<a href='/agenda/2027/3/26/the-dutch-queen-168420'>/agenda/2027/3/26/the-dutch-queen-168420</a> || <p>In 2027 viert The Dutch Queen een bijzonder jubileum: 50 jaar&nbsp;Somebody to Love. Hét moment voor een avondvullend concert, waarbij deze ultieme meezinger samen met jullie onvergetelijk zal klinken. Naast een indrukwekkende hoeveelheid Queen klassiekers gaat de band ook een aantal minder bekende parels de revue laten passeren. Een heerlijke avond voor iedereen die van Queen houdt.</p><p>Met een energieke bandsound en de indrukwekkende vocalen van zanger Merijn van Haren onderscheidt The Dutch Queen zich met een ijzersterke live-reputatie. Alles wat je hoort wordt live gespeeld én gezongen. Dit maakt The Dutch Queen uniek en onweerstaanbaar!</p><p>he Dutch Queen bestaat uit bekende muzikanten van oa Navarone, Krezip en De Staat:Merijn van Haren - zangKees Lewiszong - gitaarHenk Jan Heuvelink - pianoJoost van Haaren - basTim van Delft - drums</p>
DESCRIPTION:<a href='/agenda/2027/3/26/the-dutch-queen-168420'>/agenda/2027/3/26/the-dutch-queen-168420</a> || <p>In 2027 viert The Dutch Queen een bijzonder jubileum: 50 jaar&nbsp;Somebody to Love. Hét moment voor een avondvullend concert, waarbij deze ultieme meezinger samen met jullie onvergetelijk zal klinken. Naast een indrukwekkende hoeveelheid Queen klassiekers gaat de band ook een aantal minder bekende parels de revue laten passeren. Een heerlijke avond voor iedereen die van Queen houdt.</p><p>Met een energieke bandsound en de indrukwekkende vocalen van zanger Merijn van Haren onderscheidt The Dutch Queen zich met een ijzersterke live-reputatie. Alles wat je hoort wordt live gespeeld én gezongen. Dit maakt The Dutch Queen uniek en onweerstaanbaar!</p><p>he Dutch Queen bestaat uit bekende muzikanten van oa Navarone, Krezip en De Staat:Merijn van Haren - zangKees Lewiszong - gitaarHenk Jan Heuvelink - pianoJoost van Haaren - basTim van Delft - drums</p>
LAST-MODIFIED:20260426T000404Z
LOCATION: Poppodium Boerderij | Amerikaweg 145 Zoetermeer
SEQUENCE:0
STATUS:CONFIRMED
SUMMARY:The Dutch Queen
TRANSP:OPAQUE
END:VEVENT
END:VCALENDAR
