BEGIN:VCALENDAR
PRODID:-//PUBBLE//agenda//NL
VERSION:2.0
METHOD:PUBLISH
BEGIN:VEVENT
DTSTART:20261203T173000Z
DTEND:20261203T213000Z
DTSTAMP:20260425T235517Z
UID:20c72d97-f336-4abc-a900-07b4d3942cae
CREATED:20260425T235517Z
NAME:The Mike Keneally Report & Dave Cureton streekbladzoetermeer.nl
X-WR-CALNAME:The Mike Keneally Report & Dave Cureton
X-ALT-DESC;FMTTYPE=text/html:<a href='/agenda/2026/12/3/the-mike-keneally-report-dave-cureton-168419'>/agenda/2026/12/3/the-mike-keneally-report-dave-cureton-168419</a> || <p>Een bijzondere double headliner-avond waarin twee topgitaristen het podium delen voor een unieke muzikale ervaring. Mike Keneally en Dave Cureton staan garant voor een dynamische show vol energie, virtuositeit en verrassende momenten.</p><p>Mike Keneally&nbsp;is een van de meest gerespecteerde en veelzijdige gitaristen en componisten binnen de progressieve muziek. Hij staat bekend om zijn werk met Frank Zappa en samenwerkingen met Steve Vai, Joe Satriani en Devin Townsend. Zijn carrière beslaat decennia van genre-overstijgende creativiteit. Als soloartiest wordt Keneally geprezen om zijn grenzeloze muzikaliteit, waarbij hij complexe composities moeiteloos combineert met improvisatie, humor en spontaniteit. Zijn liveoptredens zijn even onvoorspelbaar als virtuoos, met een afwisseling van energieke, ingewikkelde passages en intieme, expressieve momenten die zijn brede muzikale bereik tonen.</p><p>Tevens op het podium deze avond: Dave Cureton, een dynamische en expressieve gitarist en oprichtend lid van IO Earth. Zijn solowerk combineert melodische verfijning met gedurfde improvisatie, wat hem een groeiende reputatie oplevert binnen de progressieve muziekscene. Zijn eigen materiaal laat zijn unieke stijl het best horen, met een mix van complexe composities en rauwe, energieke kracht. Hij trad internationaal op bij evenementen zoals Cruise to the Edge en ProgStock, evenals op festivals in Noorwegen en Nederland, en verzorgde het voorprogramma van The Winery Dogs. Zijn liveshows zijn explosief, technisch indrukwekkend en emotioneel geladen, en maken een blijvende indruk op het publiek.</p>
DESCRIPTION:<a href='/agenda/2026/12/3/the-mike-keneally-report-dave-cureton-168419'>/agenda/2026/12/3/the-mike-keneally-report-dave-cureton-168419</a> || <p>Een bijzondere double headliner-avond waarin twee topgitaristen het podium delen voor een unieke muzikale ervaring. Mike Keneally en Dave Cureton staan garant voor een dynamische show vol energie, virtuositeit en verrassende momenten.</p><p>Mike Keneally&nbsp;is een van de meest gerespecteerde en veelzijdige gitaristen en componisten binnen de progressieve muziek. Hij staat bekend om zijn werk met Frank Zappa en samenwerkingen met Steve Vai, Joe Satriani en Devin Townsend. Zijn carrière beslaat decennia van genre-overstijgende creativiteit. Als soloartiest wordt Keneally geprezen om zijn grenzeloze muzikaliteit, waarbij hij complexe composities moeiteloos combineert met improvisatie, humor en spontaniteit. Zijn liveoptredens zijn even onvoorspelbaar als virtuoos, met een afwisseling van energieke, ingewikkelde passages en intieme, expressieve momenten die zijn brede muzikale bereik tonen.</p><p>Tevens op het podium deze avond: Dave Cureton, een dynamische en expressieve gitarist en oprichtend lid van IO Earth. Zijn solowerk combineert melodische verfijning met gedurfde improvisatie, wat hem een groeiende reputatie oplevert binnen de progressieve muziekscene. Zijn eigen materiaal laat zijn unieke stijl het best horen, met een mix van complexe composities en rauwe, energieke kracht. Hij trad internationaal op bij evenementen zoals Cruise to the Edge en ProgStock, evenals op festivals in Noorwegen en Nederland, en verzorgde het voorprogramma van The Winery Dogs. Zijn liveshows zijn explosief, technisch indrukwekkend en emotioneel geladen, en maken een blijvende indruk op het publiek.</p>
LAST-MODIFIED:20260425T235517Z
LOCATION: Poppodium Boerderij | Amerikaweg 145 Zoetermeer
SEQUENCE:0
STATUS:CONFIRMED
SUMMARY:The Mike Keneally Report & Dave Cureton
TRANSP:OPAQUE
END:VEVENT
END:VCALENDAR
