BEGIN:VCALENDAR
PRODID:-//PUBBLE//agenda//NL
VERSION:2.0
METHOD:PUBLISH
BEGIN:VEVENT
DTSTART:20270115T173000Z
DTEND:20270115T213000Z
DTSTAMP:20260426T000323Z
UID:de22f64a-6aa0-4321-8258-abae4aa1f965
CREATED:20260426T000323Z
NAME:Made in Purple streekbladzoetermeer.nl
X-WR-CALNAME:Made in Purple
X-ALT-DESC;FMTTYPE=text/html:<a href='/agenda/2027/1/15/made-in-purple-168418'>/agenda/2027/1/15/made-in-purple-168418</a> || <p>De missie van Made In Purple is helder: het tot leven brengen van Deep Purple’s legendarische Made In Japan. Dit iconische live-album, dat in 1972 werd opgenomen en uitgebracht, viert komend jaar zijn 55-jarig jubileum! Het album met de meest succesvolle Deep Purple line-up –Gillan, Glover, Lord, Blackmore en Paice– wordt met respect voor de originele nummers, het geluid en de solo’s uitgevoerd door Made In Purple.&nbsp;</p><p>Made In Japan&nbsp;bracht in 1972 een enorm succes teweeg en wordt nog altijd als een van de meest succesvolle liveplaten gezien. Met nummers als&nbsp;Highway Star,&nbsp;Child in Time,&nbsp;Smoke on the Water,&nbsp;The Mule,&nbsp;Strange Kind of Woman,&nbsp;Lazy&nbsp;en&nbsp;Space Truckin’&nbsp;brengt Made In Purple de magische live-ervaring van deze plaat naar het podium.</p><p>Made In Purple bestaat uit vier ervaren sessie- en livemuzikanten, die tevens doceren aan de conservatoria van Gent en Brussel, en een flamboyante zanger; bekend van zijn rol als Jezus in de musical Jesus Christ Superstar. Gedreven door passie, enthousiasme en het 70’s hardrockvirus, gaan zij deze muzikale uitdaging aan.</p><p>Line-up: Pieter Jan De Paepe (zang), Bert Verschueren (gitaar), Pieter van Malderen (hammond), Christophe Devisscher (bas) en Jean-Philippe Komac (drums).&nbsp;</p>
DESCRIPTION:<a href='/agenda/2027/1/15/made-in-purple-168418'>/agenda/2027/1/15/made-in-purple-168418</a> || <p>De missie van Made In Purple is helder: het tot leven brengen van Deep Purple’s legendarische Made In Japan. Dit iconische live-album, dat in 1972 werd opgenomen en uitgebracht, viert komend jaar zijn 55-jarig jubileum! Het album met de meest succesvolle Deep Purple line-up –Gillan, Glover, Lord, Blackmore en Paice– wordt met respect voor de originele nummers, het geluid en de solo’s uitgevoerd door Made In Purple.&nbsp;</p><p>Made In Japan&nbsp;bracht in 1972 een enorm succes teweeg en wordt nog altijd als een van de meest succesvolle liveplaten gezien. Met nummers als&nbsp;Highway Star,&nbsp;Child in Time,&nbsp;Smoke on the Water,&nbsp;The Mule,&nbsp;Strange Kind of Woman,&nbsp;Lazy&nbsp;en&nbsp;Space Truckin’&nbsp;brengt Made In Purple de magische live-ervaring van deze plaat naar het podium.</p><p>Made In Purple bestaat uit vier ervaren sessie- en livemuzikanten, die tevens doceren aan de conservatoria van Gent en Brussel, en een flamboyante zanger; bekend van zijn rol als Jezus in de musical Jesus Christ Superstar. Gedreven door passie, enthousiasme en het 70’s hardrockvirus, gaan zij deze muzikale uitdaging aan.</p><p>Line-up: Pieter Jan De Paepe (zang), Bert Verschueren (gitaar), Pieter van Malderen (hammond), Christophe Devisscher (bas) en Jean-Philippe Komac (drums).&nbsp;</p>
LAST-MODIFIED:20260426T000323Z
LOCATION: Poppodium Boerderij | Amerikaweg 145 Zoetermeer
SEQUENCE:0
STATUS:CONFIRMED
SUMMARY:Made in Purple
TRANSP:OPAQUE
END:VEVENT
END:VCALENDAR
