BEGIN:VCALENDAR
PRODID:-//PUBBLE//agenda//NL
VERSION:2.0
METHOD:PUBLISH
BEGIN:VEVENT
DTSTART:20261107T173000Z
DTEND:20261107T213000Z
DTSTAMP:20260426T000323Z
UID:3ee8fcff-45ff-44af-baf2-d43393f861eb
CREATED:20260426T000323Z
NAME:Frank Boeijen streekbladzoetermeer.nl
X-WR-CALNAME:Frank Boeijen
X-ALT-DESC;FMTTYPE=text/html:<a href='/agenda/2026/11/7/frank-boeijen-168316'>/agenda/2026/11/7/frank-boeijen-168316</a> || <p>In 2026 staat Frank Boeijen opnieuw op de bühne met een gloednieuwe show die verrast, raakt en verbindt. Tijdens deze tour neemt hij zijn publiek mee op een energieke muzikale reis, waarin verleden en heden moeiteloos samenkomen.</p><p><strong>De voorverkoop start vrijdag 3 april om 12:00 uur.</strong> </p><p>Samen met zijn vaste band zet Boeijen een krachtig en dynamisch optreden neer, waarin ruimte is voor zowel ingetogen momenten als meeslepende, volle arrangementen.Verwacht een avond vol herkenning en nieuwe indrukken, met klassiekers als Kronenburg Park en Zwart Wit, aangevuld met nieuw werk dat direct binnenkomt.Elk nummer heeft zijn eigen verhaal, elke song laat een blijvende indruk achter. Een concert van Frank Boeijen is meer dan alleen muziek – het is een intense live-ervaring die nog lang nagalmt.</p>
DESCRIPTION:<a href='/agenda/2026/11/7/frank-boeijen-168316'>/agenda/2026/11/7/frank-boeijen-168316</a> || <p>In 2026 staat Frank Boeijen opnieuw op de bühne met een gloednieuwe show die verrast, raakt en verbindt. Tijdens deze tour neemt hij zijn publiek mee op een energieke muzikale reis, waarin verleden en heden moeiteloos samenkomen.</p><p><strong>De voorverkoop start vrijdag 3 april om 12:00 uur.</strong> </p><p>Samen met zijn vaste band zet Boeijen een krachtig en dynamisch optreden neer, waarin ruimte is voor zowel ingetogen momenten als meeslepende, volle arrangementen.Verwacht een avond vol herkenning en nieuwe indrukken, met klassiekers als Kronenburg Park en Zwart Wit, aangevuld met nieuw werk dat direct binnenkomt.Elk nummer heeft zijn eigen verhaal, elke song laat een blijvende indruk achter. Een concert van Frank Boeijen is meer dan alleen muziek – het is een intense live-ervaring die nog lang nagalmt.</p>
LAST-MODIFIED:20260426T000323Z
LOCATION: Poppodium Boerderij | Amerikaweg 145 Zoetermeer
SEQUENCE:0
STATUS:CONFIRMED
SUMMARY:Frank Boeijen
TRANSP:OPAQUE
END:VEVENT
END:VCALENDAR
