BEGIN:VCALENDAR
PRODID:-//PUBBLE//agenda//NL
VERSION:2.0
METHOD:PUBLISH
BEGIN:VEVENT
DTSTART:20260919T173000Z
DTEND:20260919T213000Z
DTSTAMP:20260425T215750Z
UID:cc635f43-24d0-4cb6-9acf-a81fda0b3476
CREATED:20260425T215750Z
NAME:Oddland & Mother of Millions streekbladzoetermeer.nl
X-WR-CALNAME:Oddland & Mother of Millions
X-ALT-DESC;FMTTYPE=text/html:<a href='/agenda/2026/9/19/oddland-mother-of-millions-168315'>/agenda/2026/9/19/oddland-mother-of-millions-168315</a> || <p><strong>Double headliner &amp; support Ring of Gyges</strong></p><p>Oddland uit Finland en Mother of Millions uit Athene maken beide eigenzinnige progmetal. Waar Oddland geboren is uit grunge, is Mother of Millions juist uit de post-metal afkomstig. Wat de bands gemeen hebben is een innovatieve sound en explosieve liveshows.&nbsp;</p><p><strong>Oddland<br></strong>Oddland combineert agressieve klanken, ruime texturen en melodieën tot meesterlijke progmetal. Van hun grunge-inspiratie – Alice in Chains, Soundgarden, Tool en Primus – is de band steeds verder naar de progressieve metal gekropen. Bekend om krachtige liveshows en festivaloptredens, blijft Oddland grenzen verleggen binnen de progmetal met een innovatieve sound en indrukwekkende performances.</p><p><strong>Mother of Millions</strong></p><p>Mother of Millions combineert postmetal met progressieve experimenten, resulterend in krachtige liveshows. De band bouwde een unieke sound op, te vergelijken met Tool en Leprous. Na een tragisch verlies van toetsenist Makis Tsamkosoglou keerde de band sterk terug met de emotionele Orbit EP en in 2024 het succesvolle album Magna Mater, waarmee ze Europa veroverde en straks ook de Boerderij.</p><p><strong>Support: Ring Of Gyges</strong><br>Ring of Gyges uit Reykjavík combineert 70’s progrock-invloeden met moderne progmetal, complexe ritmes met epische soundscapes. Hun ambitieuze en filosofische muziek, zoals te horen op hun album Metamorphosis, rekt grenzen van het genre verder op. </p>
DESCRIPTION:<a href='/agenda/2026/9/19/oddland-mother-of-millions-168315'>/agenda/2026/9/19/oddland-mother-of-millions-168315</a> || <p><strong>Double headliner &amp; support Ring of Gyges</strong></p><p>Oddland uit Finland en Mother of Millions uit Athene maken beide eigenzinnige progmetal. Waar Oddland geboren is uit grunge, is Mother of Millions juist uit de post-metal afkomstig. Wat de bands gemeen hebben is een innovatieve sound en explosieve liveshows.&nbsp;</p><p><strong>Oddland<br></strong>Oddland combineert agressieve klanken, ruime texturen en melodieën tot meesterlijke progmetal. Van hun grunge-inspiratie – Alice in Chains, Soundgarden, Tool en Primus – is de band steeds verder naar de progressieve metal gekropen. Bekend om krachtige liveshows en festivaloptredens, blijft Oddland grenzen verleggen binnen de progmetal met een innovatieve sound en indrukwekkende performances.</p><p><strong>Mother of Millions</strong></p><p>Mother of Millions combineert postmetal met progressieve experimenten, resulterend in krachtige liveshows. De band bouwde een unieke sound op, te vergelijken met Tool en Leprous. Na een tragisch verlies van toetsenist Makis Tsamkosoglou keerde de band sterk terug met de emotionele Orbit EP en in 2024 het succesvolle album Magna Mater, waarmee ze Europa veroverde en straks ook de Boerderij.</p><p><strong>Support: Ring Of Gyges</strong><br>Ring of Gyges uit Reykjavík combineert 70’s progrock-invloeden met moderne progmetal, complexe ritmes met epische soundscapes. Hun ambitieuze en filosofische muziek, zoals te horen op hun album Metamorphosis, rekt grenzen van het genre verder op. </p>
LAST-MODIFIED:20260425T215750Z
LOCATION: Poppodium Boerderij | Amerikaweg 145 Zoetermeer
SEQUENCE:0
STATUS:CONFIRMED
SUMMARY:Oddland & Mother of Millions
TRANSP:OPAQUE
END:VEVENT
END:VCALENDAR
