BEGIN:VCALENDAR
PRODID:-//PUBBLE//agenda//NL
VERSION:2.0
METHOD:PUBLISH
BEGIN:VEVENT
DTSTART:20260401T080000Z
DTEND:20260501T100000Z
DTSTAMP:20260425T201052Z
UID:6f4c1ee3-5976-4217-8a59-7e1d80e496c1
CREATED:20260425T201052Z
NAME:Nieuwe expositie ‘Dusk till Dawn’ streekbladzoetermeer.nl
X-WR-CALNAME:Nieuwe expositie ‘Dusk till Dawn’
X-ALT-DESC;FMTTYPE=text/html:<a href='/agenda/2026/4/1/nieuwe-expositie-dusk-till-dawn-168258'>/agenda/2026/4/1/nieuwe-expositie-dusk-till-dawn-168258</a> || <p>In de nieuwe expositie ‘Van Avondrood tot Ochtendgloren’ / ‘Dusk till Dawn’, te zien in de Herbergzaal van de Oude Kerk in het Dorp, laat de Zoetermeerse kunstschilder Albert Boot recent werk zien op diverse formaten. Hij neemt je mee van de avond door de nacht naar de vroege ochtend. Hij doet dit in modern-impressionistische stijl, maar ook bijna romantisch-realistisch. Daardoor lijkt het of sommige werken mogelijk veel ouder zijn dan je denkt. De getoonde werken vinden hun inspiratie in de natuur en de dagelijkse omgeving, maar ook in werken van bekende schilders zoals Jongkind, Monet en Gestel. Alleen dan nét met een twist, die het werk een eigen karakter geeft.&nbsp;</p><p>Boot schildert voornamelijk in acryl en vaak op zelfgemaakte spieramen met gerecycled linnen, katoen of andere weefsels. Net wat er voorhanden is. Dit resulteert in verschillende structuren in de werken, waarbij eventuele weeffoutjes of oneffenheden het geheel juist eigen karakter en spanning bieden. De meeste getoonde werken zijn ook te koop.&nbsp;</p><p>Wekelijkse bezichtiging in de Herbergzaal van de Oude Kerk, Dorpsstraat 59, de hele maand april t/m 2 mei: elke dinsdag- en zaterdagmorgen 10.00-12.00 uur, vrijdagmiddag 17 en 24 april 14.00-15.30 uur, rondom Lunchpauzeconcerten elke woensdag en elke zondag na de kerkdienst.&nbsp;</p><p>Adres: Herberg Oude Kerk, Dorpsstraat 59 pr@oudekerkgemeente.nl; www.herbergoudekerk.nl&nbsp;</p><p>Voor direct contact met de kunstenaar en informatie over aankoop: lebateau.art en albertbootart.com</p>
DESCRIPTION:<a href='/agenda/2026/4/1/nieuwe-expositie-dusk-till-dawn-168258'>/agenda/2026/4/1/nieuwe-expositie-dusk-till-dawn-168258</a> || <p>In de nieuwe expositie ‘Van Avondrood tot Ochtendgloren’ / ‘Dusk till Dawn’, te zien in de Herbergzaal van de Oude Kerk in het Dorp, laat de Zoetermeerse kunstschilder Albert Boot recent werk zien op diverse formaten. Hij neemt je mee van de avond door de nacht naar de vroege ochtend. Hij doet dit in modern-impressionistische stijl, maar ook bijna romantisch-realistisch. Daardoor lijkt het of sommige werken mogelijk veel ouder zijn dan je denkt. De getoonde werken vinden hun inspiratie in de natuur en de dagelijkse omgeving, maar ook in werken van bekende schilders zoals Jongkind, Monet en Gestel. Alleen dan nét met een twist, die het werk een eigen karakter geeft.&nbsp;</p><p>Boot schildert voornamelijk in acryl en vaak op zelfgemaakte spieramen met gerecycled linnen, katoen of andere weefsels. Net wat er voorhanden is. Dit resulteert in verschillende structuren in de werken, waarbij eventuele weeffoutjes of oneffenheden het geheel juist eigen karakter en spanning bieden. De meeste getoonde werken zijn ook te koop.&nbsp;</p><p>Wekelijkse bezichtiging in de Herbergzaal van de Oude Kerk, Dorpsstraat 59, de hele maand april t/m 2 mei: elke dinsdag- en zaterdagmorgen 10.00-12.00 uur, vrijdagmiddag 17 en 24 april 14.00-15.30 uur, rondom Lunchpauzeconcerten elke woensdag en elke zondag na de kerkdienst.&nbsp;</p><p>Adres: Herberg Oude Kerk, Dorpsstraat 59 pr@oudekerkgemeente.nl; www.herbergoudekerk.nl&nbsp;</p><p>Voor direct contact met de kunstenaar en informatie over aankoop: lebateau.art en albertbootart.com</p>
LAST-MODIFIED:20260425T201052Z
LOCATION: Oude Kerk | Dorpsstraat 59 Zoetermeer
SEQUENCE:0
STATUS:CONFIRMED
SUMMARY:Nieuwe expositie ‘Dusk till Dawn’
TRANSP:OPAQUE
END:VEVENT
END:VCALENDAR
