BEGIN:VCALENDAR
PRODID:-//PUBBLE//agenda//NL
VERSION:2.0
METHOD:PUBLISH
BEGIN:VEVENT
DTSTART:20260421T124500Z
DTEND:20260421T143000Z
DTSTAMP:20260420T031951Z
UID:2af13ea5-a287-45eb-aab7-9e323f051636
CREATED:20260420T031951Z
NAME:Kunstgarage Franx komt naar de wijk – mét kunst! streekbladzoetermeer.nl
X-WR-CALNAME:Kunstgarage Franx komt naar de wijk – mét kunst!
X-ALT-DESC;FMTTYPE=text/html:<a href='/agenda/2026/4/21/kunstgarage-franx-komt-naar-de-wijk-met-kunst--168242'>/agenda/2026/4/21/kunstgarage-franx-komt-naar-de-wijk-met-kunst--168242</a> || <p>In samenwerking met Wijck trekt kunstgarage Franx de wijk in. We bezoeken verschillendelocaties voor inspirerende, kunstzinnige sessies. En we nemen een echt kunstwerk mee! Samenkijken we, praten we en ga je zélf creatief aan de slag.</p><p>Op 21 april gaat Kunstgarage Franx op de koffie bij het Parkinsoncafé Zoetermeer.</p><p><strong>Wat kun je verwachten tijdens dit creatieve uur?</strong></p><p>We beginnen met een korte introductie over Franx. Daarna nemen we een kwartier de tijd omsamen aandachtig te kijken naar het meegebrachte kunstwerk. Wat valt je op? Je leert beterwaarnemen, jouw indrukken onder woorden brengen en luisteren naar perspectieven vananderen. Hierbij is er geen goed of fout – juist het delen van verschillende invalshoeken zorgtvoor verdieping, vertraging en verrassende inzichten. Ook als je geen ervaring met kunst hebt!Vervolgens ga je onder begeleiding van een kunstdocent zelf aan de slag met een creatieveopdracht. Je resultaat mag je natuurlijk mee naar huis nemen.</p><p>Tot slot ontvang je een uitnodiging om op een later moment kunstgarage Franx te bezoeken. Daar staan koffie en iets lekkers voor je klaar – en nog veel meer kunst om te ontdekken.</p><p>Aanmelden kan door te mailen naar <a href="mailto:info@parkinsoncafezoetermeer.nl">info@parkinsoncafezoetermeer.nl</a></p>
DESCRIPTION:<a href='/agenda/2026/4/21/kunstgarage-franx-komt-naar-de-wijk-met-kunst--168242'>/agenda/2026/4/21/kunstgarage-franx-komt-naar-de-wijk-met-kunst--168242</a> || <p>In samenwerking met Wijck trekt kunstgarage Franx de wijk in. We bezoeken verschillendelocaties voor inspirerende, kunstzinnige sessies. En we nemen een echt kunstwerk mee! Samenkijken we, praten we en ga je zélf creatief aan de slag.</p><p>Op 21 april gaat Kunstgarage Franx op de koffie bij het Parkinsoncafé Zoetermeer.</p><p><strong>Wat kun je verwachten tijdens dit creatieve uur?</strong></p><p>We beginnen met een korte introductie over Franx. Daarna nemen we een kwartier de tijd omsamen aandachtig te kijken naar het meegebrachte kunstwerk. Wat valt je op? Je leert beterwaarnemen, jouw indrukken onder woorden brengen en luisteren naar perspectieven vananderen. Hierbij is er geen goed of fout – juist het delen van verschillende invalshoeken zorgtvoor verdieping, vertraging en verrassende inzichten. Ook als je geen ervaring met kunst hebt!Vervolgens ga je onder begeleiding van een kunstdocent zelf aan de slag met een creatieveopdracht. Je resultaat mag je natuurlijk mee naar huis nemen.</p><p>Tot slot ontvang je een uitnodiging om op een later moment kunstgarage Franx te bezoeken. Daar staan koffie en iets lekkers voor je klaar – en nog veel meer kunst om te ontdekken.</p><p>Aanmelden kan door te mailen naar <a href="mailto:info@parkinsoncafezoetermeer.nl">info@parkinsoncafezoetermeer.nl</a></p>
LAST-MODIFIED:20260420T031951Z
LOCATION: inZet | Bijdorplaan 471 Zoetermeer
SEQUENCE:0
STATUS:CONFIRMED
SUMMARY:Kunstgarage Franx komt naar de wijk – mét kunst!
TRANSP:OPAQUE
END:VEVENT
END:VCALENDAR
