BEGIN:VCALENDAR
PRODID:-//PUBBLE//agenda//NL
VERSION:2.0
METHOD:PUBLISH
BEGIN:VEVENT
DTSTART:20260512T083000Z
DTEND:20260623T100000Z
DTSTAMP:20260425T201052Z
UID:190ea12c-ad83-471a-9e9e-bbfca691591a
CREATED:20260425T201052Z
NAME:Blauwdruk van het Onverwachte, Ontdek Cyanotypie: maak kunst met zonlicht streekbladzoetermeer.nl
X-WR-CALNAME:Blauwdruk van het Onverwachte, Ontdek Cyanotypie: maak kunst met zonlicht
X-ALT-DESC;FMTTYPE=text/html:<a href='/agenda/2026/5/12/blauwdruk-van-het-onverwachte-ontdek-cyanotypie-maak-kunst-met-zonlicht-168129'>/agenda/2026/5/12/blauwdruk-van-het-onverwachte-ontdek-cyanotypie-maak-kunst-met-zonlicht-168129</a> || <p>In dit programma van zes bijeenkomsten maak je kennis met cyanotypie: een fotografische techniek waarbij zonlicht en water samen een beeld maken. Het resultaat is een mooie blauwe afdruk.&nbsp;</p><p>Je hoeft geen ervaring te hebben, het draait om uitproberen, ontdekken en toeval. Het leuke aan cyanotypie is dat het resultaat altijd een beetje verrassend is. Toeval en imperfectie spelen een belangrijke rol, daarin ligt de magie. Je laat de perfectie los en leert werken zonder oordeel.&nbsp;</p><p>Wat kun je verwachten?</p><p>Je begint met eenvoudige afdrukken. Daarna ga je stap voor stap verder experimenteren met natuurlijke materialen of eigen beelden en worden de afdrukken steeds persoonlijker.&nbsp;</p><p>Het creatieve proces gaat niet alleen over iets maken. Het helpt ook om even stil te staan, te ontspannen en met aandacht te werken.&nbsp;</p><p>Binnen het programma kijken we ook samen naar kunst. We nemen de tijd om goed te kijken en met elkaar te bespreken wat we zien door de methode Visual Thinking Strategies te gebruiken. Iedereen kijkt anders, en juist die verschillende blikken maken het gesprek interessant.&nbsp;</p><p>Tijdens het maken sta je ook stil bij wat er in jezelf gebeurt. Misschien merk je dat je iets meteen goed wilt doen, of dat je twijfelt over je werk. We oefenen om daar milder naar te kijken en ruimte te geven aan experiment en toeval.&nbsp;</p><p>Met korte reflectiemomenten ontdek je hoe creativiteit kan helpen om dingen los te laten en nieuwe ideeën te krijgen.&nbsp;</p><p>Zo wordt kunst niet alleen een manier om beelden te maken, maar ook een manier om anders naar jezelf en je werk te kijken.</p><p><strong><br /></strong></p><p><strong>Wanneer en waar?</strong></p><p>Data: dinsdag 12 mei ,19 mei, 26 mei, 2 juni, 9 juni en 23 juni &nbsp;&nbsp;</p><p>Tijd: 10.30 - 12.00 uur</p><p>Locatie: Hof van Seghwaert, ingang ter hoogte van Gaardedreef 169, Zoetermeer&nbsp;</p><p>Docent: Majke Lüthi en Henri Blommers</p><p>Kosten: gratis</p><p>Woon jij in Seghwaert of Noordhove? Doe dan mee met ons kunstprogramma!</p><p>&nbsp;Schrijf je in voor <strong>20 april</strong> via&nbsp;<a href="https://wijck-zoetermeer.nl/" target="_blank">https://wijck-zoetermeer.nl/</a></p><p>Blauwdruk van het onverwachte - Ontdek cyanotypie: maak kunst met zonlicht</p><p>&nbsp;Er is plek voor maximaal 15 deelnemers.&nbsp;</p><p>Dit kunst en cultuurprogramma is een samenwerking tussen Wijck Zoetermeer (CKC), Hof van Seghwaert en kunstenaarsduo Majke Lüthi en Henri Blommers.&nbsp;</p>
DESCRIPTION:<a href='/agenda/2026/5/12/blauwdruk-van-het-onverwachte-ontdek-cyanotypie-maak-kunst-met-zonlicht-168129'>/agenda/2026/5/12/blauwdruk-van-het-onverwachte-ontdek-cyanotypie-maak-kunst-met-zonlicht-168129</a> || <p>In dit programma van zes bijeenkomsten maak je kennis met cyanotypie: een fotografische techniek waarbij zonlicht en water samen een beeld maken. Het resultaat is een mooie blauwe afdruk.&nbsp;</p><p>Je hoeft geen ervaring te hebben, het draait om uitproberen, ontdekken en toeval. Het leuke aan cyanotypie is dat het resultaat altijd een beetje verrassend is. Toeval en imperfectie spelen een belangrijke rol, daarin ligt de magie. Je laat de perfectie los en leert werken zonder oordeel.&nbsp;</p><p>Wat kun je verwachten?</p><p>Je begint met eenvoudige afdrukken. Daarna ga je stap voor stap verder experimenteren met natuurlijke materialen of eigen beelden en worden de afdrukken steeds persoonlijker.&nbsp;</p><p>Het creatieve proces gaat niet alleen over iets maken. Het helpt ook om even stil te staan, te ontspannen en met aandacht te werken.&nbsp;</p><p>Binnen het programma kijken we ook samen naar kunst. We nemen de tijd om goed te kijken en met elkaar te bespreken wat we zien door de methode Visual Thinking Strategies te gebruiken. Iedereen kijkt anders, en juist die verschillende blikken maken het gesprek interessant.&nbsp;</p><p>Tijdens het maken sta je ook stil bij wat er in jezelf gebeurt. Misschien merk je dat je iets meteen goed wilt doen, of dat je twijfelt over je werk. We oefenen om daar milder naar te kijken en ruimte te geven aan experiment en toeval.&nbsp;</p><p>Met korte reflectiemomenten ontdek je hoe creativiteit kan helpen om dingen los te laten en nieuwe ideeën te krijgen.&nbsp;</p><p>Zo wordt kunst niet alleen een manier om beelden te maken, maar ook een manier om anders naar jezelf en je werk te kijken.</p><p><strong><br /></strong></p><p><strong>Wanneer en waar?</strong></p><p>Data: dinsdag 12 mei ,19 mei, 26 mei, 2 juni, 9 juni en 23 juni &nbsp;&nbsp;</p><p>Tijd: 10.30 - 12.00 uur</p><p>Locatie: Hof van Seghwaert, ingang ter hoogte van Gaardedreef 169, Zoetermeer&nbsp;</p><p>Docent: Majke Lüthi en Henri Blommers</p><p>Kosten: gratis</p><p>Woon jij in Seghwaert of Noordhove? Doe dan mee met ons kunstprogramma!</p><p>&nbsp;Schrijf je in voor <strong>20 april</strong> via&nbsp;<a href="https://wijck-zoetermeer.nl/" target="_blank">https://wijck-zoetermeer.nl/</a></p><p>Blauwdruk van het onverwachte - Ontdek cyanotypie: maak kunst met zonlicht</p><p>&nbsp;Er is plek voor maximaal 15 deelnemers.&nbsp;</p><p>Dit kunst en cultuurprogramma is een samenwerking tussen Wijck Zoetermeer (CKC), Hof van Seghwaert en kunstenaarsduo Majke Lüthi en Henri Blommers.&nbsp;</p>
LAST-MODIFIED:20260425T201052Z
LOCATION: Hof van Seghwaert | Gaardedreef 169 Zoetermeer
SEQUENCE:0
STATUS:CONFIRMED
SUMMARY:Blauwdruk van het Onverwachte, Ontdek Cyanotypie: maak kunst met zonlicht
TRANSP:OPAQUE
END:VEVENT
END:VCALENDAR
