BEGIN:VCALENDAR
PRODID:-//PUBBLE//agenda//NL
VERSION:2.0
METHOD:PUBLISH
BEGIN:VEVENT
DTSTART:20261017T173000Z
DTEND:20261017T213000Z
DTSTAMP:20260426T000024Z
UID:12ce78ab-43fe-40a8-bf39-21db714ce1da
CREATED:20260426T000024Z
NAME:Limehouse Lizzy streekbladzoetermeer.nl
X-WR-CALNAME:Limehouse Lizzy
X-ALT-DESC;FMTTYPE=text/html:<a href='/agenda/2026/10/17/limehouse-lizzy-168026'>/agenda/2026/10/17/limehouse-lizzy-168026</a> || <p>Limehouse Lizzy brengt de legendarische sound en het rauwe charisma van Thin Lizzy tot leven op het podium. Deze Britse tribute band laat het iconische geluid van Phil Lynott en zijn band met verbluffende precisie te herleven.&nbsp;</p><p>Limehouse Lizzy brengt een set met alle classics, en ook enkele verrassingen die zelfs de echte Lizzy fans nog zelden live gehoord zullen hebben. De band staat bekend om vurige live-optredens en loepzuivere uitvoeringen van klassiekers als <em>The Boys Are Back in Town, Whiskey in the Jar</em> en <em>Jailbreak</em>, heeft Limehouse Lizzy wereldwijd een loyale fanbase opgebouwd. Zo noemde The Guardian frontman Wayne Ellis zelfs “an uncanny ringer for Phil Lynott”. </p>
DESCRIPTION:<a href='/agenda/2026/10/17/limehouse-lizzy-168026'>/agenda/2026/10/17/limehouse-lizzy-168026</a> || <p>Limehouse Lizzy brengt de legendarische sound en het rauwe charisma van Thin Lizzy tot leven op het podium. Deze Britse tribute band laat het iconische geluid van Phil Lynott en zijn band met verbluffende precisie te herleven.&nbsp;</p><p>Limehouse Lizzy brengt een set met alle classics, en ook enkele verrassingen die zelfs de echte Lizzy fans nog zelden live gehoord zullen hebben. De band staat bekend om vurige live-optredens en loepzuivere uitvoeringen van klassiekers als <em>The Boys Are Back in Town, Whiskey in the Jar</em> en <em>Jailbreak</em>, heeft Limehouse Lizzy wereldwijd een loyale fanbase opgebouwd. Zo noemde The Guardian frontman Wayne Ellis zelfs “an uncanny ringer for Phil Lynott”. </p>
LAST-MODIFIED:20260426T000024Z
LOCATION: Poppodium Boerderij | Amerikaweg 145 Zoetermeer
SEQUENCE:0
STATUS:CONFIRMED
SUMMARY:Limehouse Lizzy
TRANSP:OPAQUE
END:VEVENT
END:VCALENDAR
