BEGIN:VCALENDAR
PRODID:-//PUBBLE//agenda//NL
VERSION:2.0
METHOD:PUBLISH
BEGIN:VEVENT
DTSTART:20261015T173000Z
DTEND:20261015T213000Z
DTSTAMP:20260425T215750Z
UID:5cc99a26-7694-4b59-9a92-d4ed487bfcab
CREATED:20260425T215750Z
NAME:Black Star Riders & Tyketto streekbladzoetermeer.nl
X-WR-CALNAME:Black Star Riders & Tyketto
X-ALT-DESC;FMTTYPE=text/html:<a href='/agenda/2026/10/15/black-star-riders-tyketto-168025'>/agenda/2026/10/15/black-star-riders-tyketto-168025</a> || <p><strong>Rock ‘n’ Roll Salvation Double Headline Tour 2026</strong> </p><p>Wanneer twee hardrockinstituties de handen ineenslaan, zegt de titel al genoeg: BLACK STAR RIDERS en TYKETTO gaan op een grote Europese tour – luid, gepassioneerd en compromisloos.</p><p>BLACK STAR RIDERS werd in 2012 opgericht vanuit de erfenis van Thin Lizzy, toen Scott Gorham en Ricky Warwick besloten nieuw materiaal uit te brengen onder een nieuwe naam – uit respect voor de nalatenschap van Phil Lynott. Met hun debuutalbum<em>&nbsp;All Hell Breaks Loose</em> (2013) en geprezen opvolgers zoals<em>&nbsp;The Killer Instinct, Heavy Fire</em> en meest recent <em>Wrong Side Of Paradise</em> (2023), heeft de band zich gevestigd als een belangrijke kracht binnen de moderne hardrock. Verpletterende riffs, meezingbare refreinen en een energieke liveperformance hebben hen tot publieksfavoriet gemaakt op internationale festivals en tijdens hun eigen tours.</p><p>Hardrockveteranen TYKETTO gaan op tour ter ondersteuning van hun gloednieuwe album <em>Closer To The Sun</em>. Sinds hun klassieke debuutalbum <em>Don’t Come Easy</em> uit 1991, voorafgegaan door het generatielied<em>&nbsp;Forever Young</em>, geniet TYKETTO een cultstatus. Met een steeds groeiend leger toegewijde fans en vlammende liveoptredens blijft deze band zich voortdurend verder ontwikkelen.</p>
DESCRIPTION:<a href='/agenda/2026/10/15/black-star-riders-tyketto-168025'>/agenda/2026/10/15/black-star-riders-tyketto-168025</a> || <p><strong>Rock ‘n’ Roll Salvation Double Headline Tour 2026</strong> </p><p>Wanneer twee hardrockinstituties de handen ineenslaan, zegt de titel al genoeg: BLACK STAR RIDERS en TYKETTO gaan op een grote Europese tour – luid, gepassioneerd en compromisloos.</p><p>BLACK STAR RIDERS werd in 2012 opgericht vanuit de erfenis van Thin Lizzy, toen Scott Gorham en Ricky Warwick besloten nieuw materiaal uit te brengen onder een nieuwe naam – uit respect voor de nalatenschap van Phil Lynott. Met hun debuutalbum<em>&nbsp;All Hell Breaks Loose</em> (2013) en geprezen opvolgers zoals<em>&nbsp;The Killer Instinct, Heavy Fire</em> en meest recent <em>Wrong Side Of Paradise</em> (2023), heeft de band zich gevestigd als een belangrijke kracht binnen de moderne hardrock. Verpletterende riffs, meezingbare refreinen en een energieke liveperformance hebben hen tot publieksfavoriet gemaakt op internationale festivals en tijdens hun eigen tours.</p><p>Hardrockveteranen TYKETTO gaan op tour ter ondersteuning van hun gloednieuwe album <em>Closer To The Sun</em>. Sinds hun klassieke debuutalbum <em>Don’t Come Easy</em> uit 1991, voorafgegaan door het generatielied<em>&nbsp;Forever Young</em>, geniet TYKETTO een cultstatus. Met een steeds groeiend leger toegewijde fans en vlammende liveoptredens blijft deze band zich voortdurend verder ontwikkelen.</p>
LAST-MODIFIED:20260425T215750Z
LOCATION: Poppodium Boerderij | Amerikaweg 145 Zoetermeer
SEQUENCE:0
STATUS:CONFIRMED
SUMMARY:Black Star Riders & Tyketto
TRANSP:OPAQUE
END:VEVENT
END:VCALENDAR
