BEGIN:VCALENDAR
PRODID:-//PUBBLE//agenda//NL
VERSION:2.0
METHOD:PUBLISH
BEGIN:VEVENT
DTSTART:20260611T173000Z
DTEND:20260611T213000Z
DTSTAMP:20260425T215744Z
UID:f75062d4-65df-405e-98d7-885156f2fbad
CREATED:20260425T215744Z
NAME:Humor in de Boerderij @ Podiumcafé streekbladzoetermeer.nl
X-WR-CALNAME:Humor in de Boerderij @ Podiumcafé
X-ALT-DESC;FMTTYPE=text/html:<a href='/agenda/2026/6/11/humor-in-de-boerderij-podiumcafe-167984'>/agenda/2026/6/11/humor-in-de-boerderij-podiumcafe-167984</a> || <p>Het podium van ons café wordt deze avond overgenomen door comedians die je buikspieren gaan laten werken! Met hun beste grappen, meest komische verhalen en soms zelfs gloednieuw materiaal, belooft het een verrassende en bruisende avond te worden.</p><p>Je geniet van vijf comedyacts - met een geweldige hoofdact - &nbsp;en een enthousiaste MC (Master of Ceremonies), die de sfeer en het tempo er lekker in gaat houden. Bestel een drankje en hapje, leun achterover en geniet van de show in de gezellige sfeer van ons Podiumcafé. Je bent verzekerd van een zitplekje, maar kunt zelf kiezen waar je gaat zitten</p><p>De line up wordt nog bekend gemaakt, maar scoor alvast je tickets!</p>
DESCRIPTION:<a href='/agenda/2026/6/11/humor-in-de-boerderij-podiumcafe-167984'>/agenda/2026/6/11/humor-in-de-boerderij-podiumcafe-167984</a> || <p>Het podium van ons café wordt deze avond overgenomen door comedians die je buikspieren gaan laten werken! Met hun beste grappen, meest komische verhalen en soms zelfs gloednieuw materiaal, belooft het een verrassende en bruisende avond te worden.</p><p>Je geniet van vijf comedyacts - met een geweldige hoofdact - &nbsp;en een enthousiaste MC (Master of Ceremonies), die de sfeer en het tempo er lekker in gaat houden. Bestel een drankje en hapje, leun achterover en geniet van de show in de gezellige sfeer van ons Podiumcafé. Je bent verzekerd van een zitplekje, maar kunt zelf kiezen waar je gaat zitten</p><p>De line up wordt nog bekend gemaakt, maar scoor alvast je tickets!</p>
LAST-MODIFIED:20260425T215744Z
LOCATION: Poppodium Boerderij | Amerikaweg 145 Zoetermeer
SEQUENCE:0
STATUS:CONFIRMED
SUMMARY:Humor in de Boerderij @ Podiumcafé
TRANSP:OPAQUE
END:VEVENT
END:VCALENDAR
