BEGIN:VCALENDAR
PRODID:-//PUBBLE//agenda//NL
VERSION:2.0
METHOD:PUBLISH
BEGIN:VEVENT
DTSTART:20260715T120000Z
DTEND:20260715T130000Z
DTSTAMP:20260426T014325Z
UID:3590a463-80c3-461d-addd-f37dd3d8041e
CREATED:20260426T014325Z
NAME:Schilderworkshop streekbladzoetermeer.nl
X-WR-CALNAME:Schilderworkshop
X-ALT-DESC;FMTTYPE=text/html:<a href='/agenda/2026/7/15/schilderworkshop-167979'>/agenda/2026/7/15/schilderworkshop-167979</a> || <p>Deze workshop is voor kinderen vanaf 9 jaar oud.</p><p>In juli kun je op de woensdagmiddag creatief aan de slag in de bibliotheek! Kunstenares Anja Hepp komt langs om jou te leren hoe je een kunstwerk maakt. We gaan op nat papier met natte verf schilderen en zelf onze kleuren mengen met rood, blauw en geel. Voor inspiratie bekijken we allerlei boeken met bloemen van de grote kunstenaars, zoals Picasso, Vincent van Gogh en Rembrandt!</p><p>De gemaakte kunstwerken worden tentoongesteld in Bibliotheek Forum tijdens de zomervakantieactiviteit op 22 juli.</p><p>Over deze activiteiten</p><p>Kom jij ook leuke dingen doen op woensdagmiddag? Elke maand wordt er op woensdagmiddag een andere leuke activiteit voor kinderen georganiseerd. Drie woensdagen per maand, elke keer in een andere bibliotheekvestiging in Zoetermeer! Doe je ook mee?</p><p>Graag alleen het aantal kinderen aanmelden.</p>
DESCRIPTION:<a href='/agenda/2026/7/15/schilderworkshop-167979'>/agenda/2026/7/15/schilderworkshop-167979</a> || <p>Deze workshop is voor kinderen vanaf 9 jaar oud.</p><p>In juli kun je op de woensdagmiddag creatief aan de slag in de bibliotheek! Kunstenares Anja Hepp komt langs om jou te leren hoe je een kunstwerk maakt. We gaan op nat papier met natte verf schilderen en zelf onze kleuren mengen met rood, blauw en geel. Voor inspiratie bekijken we allerlei boeken met bloemen van de grote kunstenaars, zoals Picasso, Vincent van Gogh en Rembrandt!</p><p>De gemaakte kunstwerken worden tentoongesteld in Bibliotheek Forum tijdens de zomervakantieactiviteit op 22 juli.</p><p>Over deze activiteiten</p><p>Kom jij ook leuke dingen doen op woensdagmiddag? Elke maand wordt er op woensdagmiddag een andere leuke activiteit voor kinderen georganiseerd. Drie woensdagen per maand, elke keer in een andere bibliotheekvestiging in Zoetermeer! Doe je ook mee?</p><p>Graag alleen het aantal kinderen aanmelden.</p>
LAST-MODIFIED:20260426T014325Z
LOCATION: Wijkbibliotheek Oosterheem | Oosterheemplein 132 Zoetermeer
SEQUENCE:0
STATUS:CONFIRMED
SUMMARY:Schilderworkshop
TRANSP:OPAQUE
END:VEVENT
END:VCALENDAR
