BEGIN:VCALENDAR
PRODID:-//PUBBLE//agenda//NL
VERSION:2.0
METHOD:PUBLISH
BEGIN:VEVENT
DTSTART:20260610T120000Z
DTEND:20260610T130000Z
DTSTAMP:20260421T091023Z
UID:277b85bd-a045-4c2e-a7e3-1ff8e2420ebe
CREATED:20260421T091023Z
NAME:Bob Popcorn streekbladzoetermeer.nl
X-WR-CALNAME:Bob Popcorn
X-ALT-DESC;FMTTYPE=text/html:<a href='/agenda/2026/6/10/bob-popcorn-167975'>/agenda/2026/6/10/bob-popcorn-167975</a> || <p>Deze activiteit is voor kinderen van 6 t/m 9 jaar.</p><p>Kom jij ook naar dit kinderboekenfeestje over Bob Popcorn? Er wordt voorgelezen, we gaan portretten tekenen en we gaan onze eigen popcorn smaken maken (en proeven)!</p><p>Bob Popcorn is een verhaal over Ellis die stiekem popcorn maakt in de schuur totdat er iets vreemds gebeurt. Eén van de maïskorrels poft niet, maar zwelt op tot hij zo groot is als een kiwi en hij krijgt armpjes en beentjes! Dit maïsmannetje is Bob en hij is erg humeurig. Wat gaat Ellis hier aan doen?</p><p>Over deze activiteiten</p><p>Kom jij ook leuke dingen doen op woensdagmiddag? Elke maand wordt er op woensdagmiddag een andere leuke activiteit voor kinderen georganiseerd. Drie woensdagen per maand, elke keer in een andere bibliotheekvestiging in Zoetermeer! Doe je ook mee?</p><p>Graag alleen het aantal kinderen aanmelden.</p>
DESCRIPTION:<a href='/agenda/2026/6/10/bob-popcorn-167975'>/agenda/2026/6/10/bob-popcorn-167975</a> || <p>Deze activiteit is voor kinderen van 6 t/m 9 jaar.</p><p>Kom jij ook naar dit kinderboekenfeestje over Bob Popcorn? Er wordt voorgelezen, we gaan portretten tekenen en we gaan onze eigen popcorn smaken maken (en proeven)!</p><p>Bob Popcorn is een verhaal over Ellis die stiekem popcorn maakt in de schuur totdat er iets vreemds gebeurt. Eén van de maïskorrels poft niet, maar zwelt op tot hij zo groot is als een kiwi en hij krijgt armpjes en beentjes! Dit maïsmannetje is Bob en hij is erg humeurig. Wat gaat Ellis hier aan doen?</p><p>Over deze activiteiten</p><p>Kom jij ook leuke dingen doen op woensdagmiddag? Elke maand wordt er op woensdagmiddag een andere leuke activiteit voor kinderen georganiseerd. Drie woensdagen per maand, elke keer in een andere bibliotheekvestiging in Zoetermeer! Doe je ook mee?</p><p>Graag alleen het aantal kinderen aanmelden.</p>
LAST-MODIFIED:20260421T091023Z
LOCATION: Wijkbibliotheek Rokkeveen | Nathaliegang 81 Zoetermeer
SEQUENCE:0
STATUS:CONFIRMED
SUMMARY:Bob Popcorn
TRANSP:OPAQUE
END:VEVENT
END:VCALENDAR
