BEGIN:VCALENDAR
PRODID:-//PUBBLE//agenda//NL
VERSION:2.0
METHOD:PUBLISH
BEGIN:VEVENT
DTSTART:20260715T110000Z
DTEND:20260715T130000Z
DTSTAMP:20260425T215552Z
UID:ee7cd139-d8ad-4c29-99c0-0a9e7c63fb3f
CREATED:20260425T215552Z
NAME:Workshop | Geen paniek streekbladzoetermeer.nl
X-WR-CALNAME:Workshop | Geen paniek
X-ALT-DESC;FMTTYPE=text/html:<a href='/agenda/2026/7/15/workshop-geen-paniek-167941'>/agenda/2026/7/15/workshop-geen-paniek-167941</a> || <p> <strong>Zijn de volgende uitspraken herkenbaar?&nbsp;</strong></p><p>💬 Ik ga niet naar plekken waar veel mensen zijn. Zo meteen val ik nog flauw.</p><p>💬 Soms heb ik ineens last van hartkloppingen, zweten en duizeligheid. Dan ben ik echt bang dat ik dood ga. Is dit een paniekaanval?</p><p>💬 Ik zou zo graag een keer naar de bioscoop willen gaan, maar ik durf gewoon niet.</p><p>Meld je dan aan voor deze<strong>&nbsp;gratis</strong> workshop!</p><p>Leer wat paniekklachten zijn, hoe ze kunnen ontstaan en hoe je er mee om kunt gaan.</p><p><strong>Wanneer en hoe laat?</strong></p><p>📅 Datum: Woensdag 15 juli 2026</p><p>⏰ Tijdstip: 13:00 - 15:00 uur</p><p>📍 &nbsp;Locatie: inZet Seghwaert &amp; Noordhove, Petuniatuin 7A 2724 NA Zoetermeer</p><p><strong>Meer informatie en aanmelden?&nbsp;</strong></p><p>Ga naar <a href="//www.indigowest.nl/l/692877">www.indigowest.nl/l/692877</a></p><p><strong>Aanmelden kan ook bij de contactpersoon van de locatie:</strong></p><p>Taffy van der Heijde | t.vanderheijden@inzet-indewijk.nl, 06 46 361 374</p><p><strong>Of aan de balie van de locatie zelf.</strong></p><p><strong>Inhoudelijke vragen?</strong></p><p>Thuan-Nhi Truong | Coördinator GGZ Preventie Zoetermeer</p><p>06 17 64 29 05 | T.Truong@indigohaaglanden.nl</p>
DESCRIPTION:<a href='/agenda/2026/7/15/workshop-geen-paniek-167941'>/agenda/2026/7/15/workshop-geen-paniek-167941</a> || <p> <strong>Zijn de volgende uitspraken herkenbaar?&nbsp;</strong></p><p>💬 Ik ga niet naar plekken waar veel mensen zijn. Zo meteen val ik nog flauw.</p><p>💬 Soms heb ik ineens last van hartkloppingen, zweten en duizeligheid. Dan ben ik echt bang dat ik dood ga. Is dit een paniekaanval?</p><p>💬 Ik zou zo graag een keer naar de bioscoop willen gaan, maar ik durf gewoon niet.</p><p>Meld je dan aan voor deze<strong>&nbsp;gratis</strong> workshop!</p><p>Leer wat paniekklachten zijn, hoe ze kunnen ontstaan en hoe je er mee om kunt gaan.</p><p><strong>Wanneer en hoe laat?</strong></p><p>📅 Datum: Woensdag 15 juli 2026</p><p>⏰ Tijdstip: 13:00 - 15:00 uur</p><p>📍 &nbsp;Locatie: inZet Seghwaert &amp; Noordhove, Petuniatuin 7A 2724 NA Zoetermeer</p><p><strong>Meer informatie en aanmelden?&nbsp;</strong></p><p>Ga naar <a href="//www.indigowest.nl/l/692877">www.indigowest.nl/l/692877</a></p><p><strong>Aanmelden kan ook bij de contactpersoon van de locatie:</strong></p><p>Taffy van der Heijde | t.vanderheijden@inzet-indewijk.nl, 06 46 361 374</p><p><strong>Of aan de balie van de locatie zelf.</strong></p><p><strong>Inhoudelijke vragen?</strong></p><p>Thuan-Nhi Truong | Coördinator GGZ Preventie Zoetermeer</p><p>06 17 64 29 05 | T.Truong@indigohaaglanden.nl</p>
LAST-MODIFIED:20260425T215552Z
LOCATION: InZet SeghWaert & Noordhove | Petuniatuin 7A Zoetermeer
SEQUENCE:0
STATUS:CONFIRMED
SUMMARY:Workshop | Geen paniek
TRANSP:OPAQUE
END:VEVENT
END:VCALENDAR
