BEGIN:VCALENDAR
PRODID:-//PUBBLE//agenda//NL
VERSION:2.0
METHOD:PUBLISH
BEGIN:VEVENT
DTSTART:20260701T103000Z
DTEND:20260701T123000Z
DTSTAMP:20260420T164959Z
UID:7230d03a-3c3f-465a-aba6-2befa115d707
CREATED:20260420T164959Z
NAME:Workshop | Omgaan met verlies streekbladzoetermeer.nl
X-WR-CALNAME:Workshop | Omgaan met verlies
X-ALT-DESC;FMTTYPE=text/html:<a href='/agenda/2026/7/1/workshop-omgaan-met-verlies-167940'>/agenda/2026/7/1/workshop-omgaan-met-verlies-167940</a> || <p><strong>Stap voor stap de draad weer oppakken &nbsp;</strong></p><p><strong>Zijn de volgende uitspraken herkenbaar?&nbsp;</strong></p><p>💬 Een jaar geleden is mijn partner overleden, sindsdien voel ik mij zo alleen thuis. Ik doe wel dingen maar voel de leegte van het alleen zijn.&nbsp;</p><p>💬 Zonder werk, heb ik geen idee hoe ik mijn dagelijkse leven weer moet oppakken.&nbsp;</p><p>💬 Mijn lichaam werkt niet meer mee zoals ik graag zou willen. Ik vind het heel moeilijk om hiermee om te gaan.&nbsp;</p><p>💬 Mijn verlies is nu meerdere jaren geleden, en ik heb nog steeds het gevoel dat ik rouw/verdrietig ben.</p><p>Meld je dan aan voor deze<strong>&nbsp;gratis</strong> workshop!</p><p>Het verlies van een dierbare, je gezondheid, werk, financiën of een kleiner wordend netwerk kan veel invloed hebben op je dagelijkse leven. Hoe kun je de draad van je leven weer oppakken als je te maken krijgt met verlies?</p><p><strong>Wanneer en hoe laat?</strong></p><p>📅 Datum: Woensdag 1 juli 2026&nbsp;</p><p>⏰ Tijdstip: 12:30 - 14:30 uur&nbsp;</p><p>📍 &nbsp;Locatie: inZet Meerzicht, &nbsp;Uiterwaard 21, 2716 VA Zoetermeer</p><p><strong>Meer informatie en aanmelden?&nbsp;</strong></p><p>Ga naar <a href="//www.indigowest.nl/l/692424">www.indigowest.nl/l/692424</a></p><p><strong>Aanmelden kan ook bij de contactpersoon van de locatie:</strong></p><p>Natalia Sadinska | natalia@stichtingpiezo.nl, 06 46 863 212</p><p><strong>Of aan de balie van de locatie zelf.</strong></p><p><strong>Inhoudelijke vragen?</strong></p><p>Thuan-Nhi Truong | Coördinator GGZ Preventie Zoetermeer</p><p>06 17 64 29 05 | T.Truong@indigohaaglanden.nl</p>
DESCRIPTION:<a href='/agenda/2026/7/1/workshop-omgaan-met-verlies-167940'>/agenda/2026/7/1/workshop-omgaan-met-verlies-167940</a> || <p><strong>Stap voor stap de draad weer oppakken &nbsp;</strong></p><p><strong>Zijn de volgende uitspraken herkenbaar?&nbsp;</strong></p><p>💬 Een jaar geleden is mijn partner overleden, sindsdien voel ik mij zo alleen thuis. Ik doe wel dingen maar voel de leegte van het alleen zijn.&nbsp;</p><p>💬 Zonder werk, heb ik geen idee hoe ik mijn dagelijkse leven weer moet oppakken.&nbsp;</p><p>💬 Mijn lichaam werkt niet meer mee zoals ik graag zou willen. Ik vind het heel moeilijk om hiermee om te gaan.&nbsp;</p><p>💬 Mijn verlies is nu meerdere jaren geleden, en ik heb nog steeds het gevoel dat ik rouw/verdrietig ben.</p><p>Meld je dan aan voor deze<strong>&nbsp;gratis</strong> workshop!</p><p>Het verlies van een dierbare, je gezondheid, werk, financiën of een kleiner wordend netwerk kan veel invloed hebben op je dagelijkse leven. Hoe kun je de draad van je leven weer oppakken als je te maken krijgt met verlies?</p><p><strong>Wanneer en hoe laat?</strong></p><p>📅 Datum: Woensdag 1 juli 2026&nbsp;</p><p>⏰ Tijdstip: 12:30 - 14:30 uur&nbsp;</p><p>📍 &nbsp;Locatie: inZet Meerzicht, &nbsp;Uiterwaard 21, 2716 VA Zoetermeer</p><p><strong>Meer informatie en aanmelden?&nbsp;</strong></p><p>Ga naar <a href="//www.indigowest.nl/l/692424">www.indigowest.nl/l/692424</a></p><p><strong>Aanmelden kan ook bij de contactpersoon van de locatie:</strong></p><p>Natalia Sadinska | natalia@stichtingpiezo.nl, 06 46 863 212</p><p><strong>Of aan de balie van de locatie zelf.</strong></p><p><strong>Inhoudelijke vragen?</strong></p><p>Thuan-Nhi Truong | Coördinator GGZ Preventie Zoetermeer</p><p>06 17 64 29 05 | T.Truong@indigohaaglanden.nl</p>
LAST-MODIFIED:20260420T164959Z
LOCATION: inZet Meerzicht | Uiterwaard 21 Zoetermeer
SEQUENCE:0
STATUS:CONFIRMED
SUMMARY:Workshop | Omgaan met verlies
TRANSP:OPAQUE
END:VEVENT
END:VCALENDAR
