BEGIN:VCALENDAR
PRODID:-//PUBBLE//agenda//NL
VERSION:2.0
METHOD:PUBLISH
BEGIN:VEVENT
DTSTART:20260624T110000Z
DTEND:20260624T130000Z
DTSTAMP:20260425T215552Z
UID:cb782591-32fc-4951-bb3b-bef0e1e235c7
CREATED:20260425T215552Z
NAME:Workshop | Op zoek naar zingeving (55+) streekbladzoetermeer.nl
X-WR-CALNAME:Workshop | Op zoek naar zingeving (55+)
X-ALT-DESC;FMTTYPE=text/html:<a href='/agenda/2026/6/24/workshop-op-zoek-naar-zingeving-55--167939'>/agenda/2026/6/24/workshop-op-zoek-naar-zingeving-55--167939</a> || <p><strong>Werken aan een betekenisvol leven</strong></p><p><strong>Zijn de volgende uitspraken herkenbaar?&nbsp;</strong></p><p>💬 Soms voel ik me wat verloren of stuurloos in deze fase van mijn leven.&nbsp;</p><p>💬 Nu ik ouder ben, zoek ik meer naar dingen die echt belangrijk voor mij zijn.&nbsp;</p><p>💬 Ik zou graag mijn tijd willen besteden aan wat écht betekenis voor mij heeft, maar ik weet niet goed hoe ik dat kan doen.&nbsp;</p><p>Meld je dan aan voor deze<strong>&nbsp;gratis</strong> workshop!</p><p>Zin in je leven is niet altijd vanzelfsprekend. Soms moet je de zin in je leven opnieuw vinden of zelf maken. Wat geeft jouw leven zin en betekenis?</p><p><strong>Wanneer en hoe laat?</strong></p><p>📅 Datum: Woensdag 24 juni 2026</p><p>⏰ Tijdstip: 13:00 - 15:00 uur&nbsp;</p><p>📍 &nbsp;Locatie: inZet Seghwaert &amp; Noordhove, Petuniatuin 7A 2724 NA Zoetermeer</p><p><strong>Meer informatie en aanmelden?&nbsp;</strong></p><p>Ga naar <a href="//www.indigowest.nl/l/672061">www.indigowest.nl/l/672130</a></p><p><strong>Aanmelden kan ook bij de contactpersoon van de locatie:</strong></p><p>Taffy van der Heijden | t.vanderheijden@inzet-indewijk.nl, 06 46 361 374</p><p><strong>Of aan de balie van de locatie zelf.</strong></p><p><strong>Inhoudelijke vragen?</strong></p><p>Thuan-Nhi Truong | Coördinator GGZ Preventie Zoetermeer</p><p>06 17 64 29 05 | T.Truong@indigohaaglanden.nl</p>
DESCRIPTION:<a href='/agenda/2026/6/24/workshop-op-zoek-naar-zingeving-55--167939'>/agenda/2026/6/24/workshop-op-zoek-naar-zingeving-55--167939</a> || <p><strong>Werken aan een betekenisvol leven</strong></p><p><strong>Zijn de volgende uitspraken herkenbaar?&nbsp;</strong></p><p>💬 Soms voel ik me wat verloren of stuurloos in deze fase van mijn leven.&nbsp;</p><p>💬 Nu ik ouder ben, zoek ik meer naar dingen die echt belangrijk voor mij zijn.&nbsp;</p><p>💬 Ik zou graag mijn tijd willen besteden aan wat écht betekenis voor mij heeft, maar ik weet niet goed hoe ik dat kan doen.&nbsp;</p><p>Meld je dan aan voor deze<strong>&nbsp;gratis</strong> workshop!</p><p>Zin in je leven is niet altijd vanzelfsprekend. Soms moet je de zin in je leven opnieuw vinden of zelf maken. Wat geeft jouw leven zin en betekenis?</p><p><strong>Wanneer en hoe laat?</strong></p><p>📅 Datum: Woensdag 24 juni 2026</p><p>⏰ Tijdstip: 13:00 - 15:00 uur&nbsp;</p><p>📍 &nbsp;Locatie: inZet Seghwaert &amp; Noordhove, Petuniatuin 7A 2724 NA Zoetermeer</p><p><strong>Meer informatie en aanmelden?&nbsp;</strong></p><p>Ga naar <a href="//www.indigowest.nl/l/672061">www.indigowest.nl/l/672130</a></p><p><strong>Aanmelden kan ook bij de contactpersoon van de locatie:</strong></p><p>Taffy van der Heijden | t.vanderheijden@inzet-indewijk.nl, 06 46 361 374</p><p><strong>Of aan de balie van de locatie zelf.</strong></p><p><strong>Inhoudelijke vragen?</strong></p><p>Thuan-Nhi Truong | Coördinator GGZ Preventie Zoetermeer</p><p>06 17 64 29 05 | T.Truong@indigohaaglanden.nl</p>
LAST-MODIFIED:20260425T215552Z
LOCATION: InZet SeghWaert & Noordhove | Petuniatuin 7A Zoetermeer
SEQUENCE:0
STATUS:CONFIRMED
SUMMARY:Workshop | Op zoek naar zingeving (55+)
TRANSP:OPAQUE
END:VEVENT
END:VCALENDAR
