BEGIN:VCALENDAR
PRODID:-//PUBBLE//agenda//NL
VERSION:2.0
METHOD:PUBLISH
BEGIN:VEVENT
DTSTART:20260630T103000Z
DTEND:20260630T123000Z
DTSTAMP:20260425T215852Z
UID:718e6361-ca3c-4101-be95-feab158b1aa9
CREATED:20260425T215852Z
NAME:Workshop | Nee zeggen streekbladzoetermeer.nl
X-WR-CALNAME:Workshop | Nee zeggen
X-ALT-DESC;FMTTYPE=text/html:<a href='/agenda/2026/6/30/workshop-nee-zeggen-167938'>/agenda/2026/6/30/workshop-nee-zeggen-167938</a> || <p><strong>Aan de slag met assertiviteit: Hoe zeg je nee?</strong></p><p><strong>Zijn de volgende uitspraken herkenbaar?&nbsp;</strong></p><p>💬 Als ik mijn mening geef, raak ik vaak in conflict met anderen.&nbsp;</p><p>💬 Als mij iets wordt gevraagd waar ik geen tijd voor heb, durf ik geen ‘nee’ te zeggen.&nbsp;</p><p>💬 Het komt regelmatig voor dat ik spijt heb dat ik mijn mond heb gehouden.&nbsp;</p><p>Meld je dan aan voor deze<strong>&nbsp;gratis</strong> workshop!</p><p>Leer hoe je op een assertieve manier kunt opkomen voor jezelf, hoe je beter kunt aangeven wat je grenzen zijn en hoe je een verzoek kunt afwijzen.</p><p><strong>Wanneer en hoe laat?</strong></p><p>📅 Datum: dinsdag 30 juni 2026&nbsp;</p><p>⏰ Tijdstip: 12:30 - 14:30 uur&nbsp;</p><p>📍 &nbsp;Locatie: inZet Centrum, Rakkersveld 253, 2722 BN Zoetermeer</p><p><strong>Meer informatie en aanmelden?&nbsp;</strong></p><p>Ga naar <a href="//www.indigowest.nl/l/672061">www.indigowest.nl/l/672061</a></p><p><strong>Aanmelden kan ook bij de contactpersoon van de locatie:</strong></p><p>Gioia Conte | gioia@stichtingpiezo.nl, 06-31687716</p><p><strong>Of aan de balie van de locatie zelf.</strong></p><p><strong>Inhoudelijke vragen?</strong></p><p>Thuan-Nhi Truong | Coördinator GGZ Preventie Zoetermeer</p><p>06 17 64 29 05 | T.Truong@indigohaaglanden.nl</p>
DESCRIPTION:<a href='/agenda/2026/6/30/workshop-nee-zeggen-167938'>/agenda/2026/6/30/workshop-nee-zeggen-167938</a> || <p><strong>Aan de slag met assertiviteit: Hoe zeg je nee?</strong></p><p><strong>Zijn de volgende uitspraken herkenbaar?&nbsp;</strong></p><p>💬 Als ik mijn mening geef, raak ik vaak in conflict met anderen.&nbsp;</p><p>💬 Als mij iets wordt gevraagd waar ik geen tijd voor heb, durf ik geen ‘nee’ te zeggen.&nbsp;</p><p>💬 Het komt regelmatig voor dat ik spijt heb dat ik mijn mond heb gehouden.&nbsp;</p><p>Meld je dan aan voor deze<strong>&nbsp;gratis</strong> workshop!</p><p>Leer hoe je op een assertieve manier kunt opkomen voor jezelf, hoe je beter kunt aangeven wat je grenzen zijn en hoe je een verzoek kunt afwijzen.</p><p><strong>Wanneer en hoe laat?</strong></p><p>📅 Datum: dinsdag 30 juni 2026&nbsp;</p><p>⏰ Tijdstip: 12:30 - 14:30 uur&nbsp;</p><p>📍 &nbsp;Locatie: inZet Centrum, Rakkersveld 253, 2722 BN Zoetermeer</p><p><strong>Meer informatie en aanmelden?&nbsp;</strong></p><p>Ga naar <a href="//www.indigowest.nl/l/672061">www.indigowest.nl/l/672061</a></p><p><strong>Aanmelden kan ook bij de contactpersoon van de locatie:</strong></p><p>Gioia Conte | gioia@stichtingpiezo.nl, 06-31687716</p><p><strong>Of aan de balie van de locatie zelf.</strong></p><p><strong>Inhoudelijke vragen?</strong></p><p>Thuan-Nhi Truong | Coördinator GGZ Preventie Zoetermeer</p><p>06 17 64 29 05 | T.Truong@indigohaaglanden.nl</p>
LAST-MODIFIED:20260425T215852Z
LOCATION: inZet Centrum | Rakkersveld 253 Zoetermeer
SEQUENCE:0
STATUS:CONFIRMED
SUMMARY:Workshop | Nee zeggen
TRANSP:OPAQUE
END:VEVENT
END:VCALENDAR
