BEGIN:VCALENDAR
PRODID:-//PUBBLE//agenda//NL
VERSION:2.0
METHOD:PUBLISH
BEGIN:VEVENT
DTSTART:20260616T103000Z
DTEND:20260616T123000Z
DTSTAMP:20260425T215643Z
UID:73284b7c-9451-4922-beaf-c011c0e8a6c7
CREATED:20260425T215643Z
NAME:Workshop | Opkomen voor jezelf streekbladzoetermeer.nl
X-WR-CALNAME:Workshop | Opkomen voor jezelf
X-ALT-DESC;FMTTYPE=text/html:<a href='/agenda/2026/6/16/workshop-opkomen-voor-jezelf-167937'>/agenda/2026/6/16/workshop-opkomen-voor-jezelf-167937</a> || <p><strong>Aan de slag met assertiviteit</strong></p><p><strong>Zijn de volgende uitspraken herkenbaar?&nbsp;</strong></p><p>💬 Als ik mijn mening geef, raak ik vaak in conflict met anderen.&nbsp;</p><p>💬 Als mij iets wordt gevraagd waar ik geen tijd voor heb, durf ik geen ‘nee’ te zeggen.&nbsp;</p><p>💬 Het komt regelmatig voor dat ik spijt heb dat ik mijn mond heb gehouden.&nbsp;</p><p>Meld je dan aan voor deze<strong>&nbsp;gratis</strong> workshop!</p><p>Leer hoe je op een assertieve manier kunt opkomen voor jezelf, hoe je beter kunt zeggen wat je wilt zeggen en hoe je je mening kunt geven. &nbsp;</p><p><strong>Wanneer en hoe laat?</strong></p><p>📅 Datum: Woensdag 16 juni 2026&nbsp;</p><p>⏰ Tijdstip: 12:30 - 14:30 uur&nbsp;</p><p>📍 &nbsp;Locatie: inZet Centrum, Rakkersveld 253, 2722 BN Zoetermeer</p><p><strong>Meer informatie en aanmelden?&nbsp;</strong></p><p>Ga naar <a href="//www.indigowest.nl/l/672061">www.indigowest.nl/l/672061</a></p><p><strong>Aanmelden kan ook bij de contactpersoon van de locatie:</strong></p><p>Gioia Conte | gioia@stichtingpiezo.nl, 06-31687716</p><p><strong>Of aan de balie van de locatie zelf.</strong></p><p><strong>Inhoudelijke vragen?</strong></p><p>Thuan-Nhi Truong | Coördinator GGZ Preventie Zoetermeer</p><p>06 17 64 29 05 | T.Truong@indigohaaglanden.nl</p>
DESCRIPTION:<a href='/agenda/2026/6/16/workshop-opkomen-voor-jezelf-167937'>/agenda/2026/6/16/workshop-opkomen-voor-jezelf-167937</a> || <p><strong>Aan de slag met assertiviteit</strong></p><p><strong>Zijn de volgende uitspraken herkenbaar?&nbsp;</strong></p><p>💬 Als ik mijn mening geef, raak ik vaak in conflict met anderen.&nbsp;</p><p>💬 Als mij iets wordt gevraagd waar ik geen tijd voor heb, durf ik geen ‘nee’ te zeggen.&nbsp;</p><p>💬 Het komt regelmatig voor dat ik spijt heb dat ik mijn mond heb gehouden.&nbsp;</p><p>Meld je dan aan voor deze<strong>&nbsp;gratis</strong> workshop!</p><p>Leer hoe je op een assertieve manier kunt opkomen voor jezelf, hoe je beter kunt zeggen wat je wilt zeggen en hoe je je mening kunt geven. &nbsp;</p><p><strong>Wanneer en hoe laat?</strong></p><p>📅 Datum: Woensdag 16 juni 2026&nbsp;</p><p>⏰ Tijdstip: 12:30 - 14:30 uur&nbsp;</p><p>📍 &nbsp;Locatie: inZet Centrum, Rakkersveld 253, 2722 BN Zoetermeer</p><p><strong>Meer informatie en aanmelden?&nbsp;</strong></p><p>Ga naar <a href="//www.indigowest.nl/l/672061">www.indigowest.nl/l/672061</a></p><p><strong>Aanmelden kan ook bij de contactpersoon van de locatie:</strong></p><p>Gioia Conte | gioia@stichtingpiezo.nl, 06-31687716</p><p><strong>Of aan de balie van de locatie zelf.</strong></p><p><strong>Inhoudelijke vragen?</strong></p><p>Thuan-Nhi Truong | Coördinator GGZ Preventie Zoetermeer</p><p>06 17 64 29 05 | T.Truong@indigohaaglanden.nl</p>
LAST-MODIFIED:20260425T215643Z
LOCATION: inZet Centrum | Rakkersveld 253 Zoetermeer
SEQUENCE:0
STATUS:CONFIRMED
SUMMARY:Workshop | Opkomen voor jezelf
TRANSP:OPAQUE
END:VEVENT
END:VCALENDAR
