BEGIN:VCALENDAR
PRODID:-//PUBBLE//agenda//NL
VERSION:2.0
METHOD:PUBLISH
BEGIN:VEVENT
DTSTART:20260610T103000Z
DTEND:20260610T123000Z
DTSTAMP:20260420T164945Z
UID:587d1c5f-a38a-4e9e-bd77-206c4bdf1142
CREATED:20260420T164945Z
NAME:Workshop | Opkomen voor jezelf streekbladzoetermeer.nl
X-WR-CALNAME:Workshop | Opkomen voor jezelf
X-ALT-DESC;FMTTYPE=text/html:<a href='/agenda/2026/6/10/workshop-opkomen-voor-jezelf-167936'>/agenda/2026/6/10/workshop-opkomen-voor-jezelf-167936</a> || <p><strong>Aan de slag met assertiviteit</strong></p><p>Zijn de volgende uitspraken herkenbaar?&nbsp;</p><p>💬 Als ik mijn mening geef, raak ik vaak in conflict met anderen.&nbsp;</p><p>💬 Als mij iets wordt gevraagd waar ik geen tijd voor heb, durf ik geen ‘nee’ te zeggen.&nbsp;</p><p>💬 Het komt regelmatig voor dat ik spijt heb dat ik mijn mond heb gehouden.&nbsp;</p><p>Meld je dan aan voor deze<strong>&nbsp;gratis</strong> workshop!</p><p>Leer hoe je op een assertieve manier kunt opkomen voor jezelf, hoe je beter kunt zeggen wat je wilt zeggen en hoe je je mening kunt geven. &nbsp;</p><p><strong>Wanneer en hoe laat?</strong></p><p>📅 Datum: Woensdag 10 juni 2026&nbsp;</p><p>⏰ Tijdstip: 12:30 - 14:30 uur&nbsp;</p><p>📍 &nbsp;Locatie: inZet Meerzicht, &nbsp;Uiterwaard 21, 2716 VA Zoetermeer</p><p><strong>Meer informatie en aanmelden?&nbsp;</strong></p><p>Ga naar <a href="//www.indigowest.nl/l/672061">www.indigowest.nl/l/672061</a></p><p><strong>Aanmelden kan ook bij de contactpersoon van de locatie:</strong></p><p>Natalia Sadinska, natalia@stichtingpiezo.nl, 06 46 863 212</p><p><strong>Of aan de balie van de locatie zelf.</strong></p><p><strong>Inhoudelijke vragen?</strong></p><p>Thuan-Nhi Truong | Coördinator GGZ Preventie Zoetermeer</p><p>06 17 64 29 05 | T.Truong@indigohaaglanden.nl</p>
DESCRIPTION:<a href='/agenda/2026/6/10/workshop-opkomen-voor-jezelf-167936'>/agenda/2026/6/10/workshop-opkomen-voor-jezelf-167936</a> || <p><strong>Aan de slag met assertiviteit</strong></p><p>Zijn de volgende uitspraken herkenbaar?&nbsp;</p><p>💬 Als ik mijn mening geef, raak ik vaak in conflict met anderen.&nbsp;</p><p>💬 Als mij iets wordt gevraagd waar ik geen tijd voor heb, durf ik geen ‘nee’ te zeggen.&nbsp;</p><p>💬 Het komt regelmatig voor dat ik spijt heb dat ik mijn mond heb gehouden.&nbsp;</p><p>Meld je dan aan voor deze<strong>&nbsp;gratis</strong> workshop!</p><p>Leer hoe je op een assertieve manier kunt opkomen voor jezelf, hoe je beter kunt zeggen wat je wilt zeggen en hoe je je mening kunt geven. &nbsp;</p><p><strong>Wanneer en hoe laat?</strong></p><p>📅 Datum: Woensdag 10 juni 2026&nbsp;</p><p>⏰ Tijdstip: 12:30 - 14:30 uur&nbsp;</p><p>📍 &nbsp;Locatie: inZet Meerzicht, &nbsp;Uiterwaard 21, 2716 VA Zoetermeer</p><p><strong>Meer informatie en aanmelden?&nbsp;</strong></p><p>Ga naar <a href="//www.indigowest.nl/l/672061">www.indigowest.nl/l/672061</a></p><p><strong>Aanmelden kan ook bij de contactpersoon van de locatie:</strong></p><p>Natalia Sadinska, natalia@stichtingpiezo.nl, 06 46 863 212</p><p><strong>Of aan de balie van de locatie zelf.</strong></p><p><strong>Inhoudelijke vragen?</strong></p><p>Thuan-Nhi Truong | Coördinator GGZ Preventie Zoetermeer</p><p>06 17 64 29 05 | T.Truong@indigohaaglanden.nl</p>
LAST-MODIFIED:20260420T164945Z
LOCATION: inZet Meerzicht | Uiterwaard 21 Zoetermeer
SEQUENCE:0
STATUS:CONFIRMED
SUMMARY:Workshop | Opkomen voor jezelf
TRANSP:OPAQUE
END:VEVENT
END:VCALENDAR
