BEGIN:VCALENDAR
PRODID:-//PUBBLE//agenda//NL
VERSION:2.0
METHOD:PUBLISH
BEGIN:VEVENT
DTSTART:20260520T103000Z
DTEND:20260520T123000Z
DTSTAMP:20260425T215628Z
UID:57f0d13c-91ad-4dc8-afc5-ee06e8fd7ed3
CREATED:20260425T215628Z
NAME:Workshop | Meer zelfvertrouwen streekbladzoetermeer.nl
X-WR-CALNAME:Workshop | Meer zelfvertrouwen
X-ALT-DESC;FMTTYPE=text/html:<a href='/agenda/2026/5/20/workshop-meer-zelfvertrouwen-167933'>/agenda/2026/5/20/workshop-meer-zelfvertrouwen-167933</a> || <p><strong>Werken aan een positiever zelfbeeld&nbsp;</strong></p><p><strong>Zijn de volgende uitspraken herkenbaar?&nbsp;</strong></p><p>💬 Als ik een compliment krijg, geloof ik niet dat dat gemeend is.&nbsp;</p><p>💬 Als ik twee mensen zie lachen, kijken en praten, dan denk ik dat ze het over mij hebben.&nbsp;</p><p>💬 Ik denk altijd dat andere iets beter kunnen dan ik.&nbsp;</p><p>💬 Ik ben bang om iets te zeggen, uit angst voor de reactie van anderen.&nbsp;</p><p>Meld je dan aan voor deze<strong>&nbsp;gratis</strong> workshop!</p><p>Tijdens deze workshop werk je aan je zelfvertrouwen, leer je op een andere manier naar jezelf te kijken waardoor je je uiteindelijk beter gaat voelen.&nbsp;</p><p><strong>Wanneer en hoe laat?</strong></p><p>📅 Datum: dinsdag 20 mei 2026</p><p>⏰ Tijdstip: 12:30 - 14:30 uur</p><p>📍 &nbsp;Locatie: inZet Buytenwegh-De Leyens, Cesar Franckrode 64, 2717 BG Zoetermeer</p><p><strong>Meer informatie en aanmelden?</strong>&nbsp;</p><p>Ga naar <a href="//www.indigowest.nl/l/692547">www.indigowest.nl/l/692547</a></p><p><strong>Aanmelden kan ook bij de contactpersoon van de locatie:</strong></p><p>Saloua Bouzambou, 06 38994171, <a href="mailto:Saloua@stichtingpiezo.nl">Saloua@stichtingpiezo.nl</a></p><p><strong>Of aan de balie van de locatie zelf.</strong></p><p><strong>Inhoudelijke vragen?</strong></p><p>Thuan-Nhi Truong | Coördinator GGZ Preventie Zoetermeer</p><p>06 17 64 29 05 | T.Truong@indigohaaglanden.nl</p>
DESCRIPTION:<a href='/agenda/2026/5/20/workshop-meer-zelfvertrouwen-167933'>/agenda/2026/5/20/workshop-meer-zelfvertrouwen-167933</a> || <p><strong>Werken aan een positiever zelfbeeld&nbsp;</strong></p><p><strong>Zijn de volgende uitspraken herkenbaar?&nbsp;</strong></p><p>💬 Als ik een compliment krijg, geloof ik niet dat dat gemeend is.&nbsp;</p><p>💬 Als ik twee mensen zie lachen, kijken en praten, dan denk ik dat ze het over mij hebben.&nbsp;</p><p>💬 Ik denk altijd dat andere iets beter kunnen dan ik.&nbsp;</p><p>💬 Ik ben bang om iets te zeggen, uit angst voor de reactie van anderen.&nbsp;</p><p>Meld je dan aan voor deze<strong>&nbsp;gratis</strong> workshop!</p><p>Tijdens deze workshop werk je aan je zelfvertrouwen, leer je op een andere manier naar jezelf te kijken waardoor je je uiteindelijk beter gaat voelen.&nbsp;</p><p><strong>Wanneer en hoe laat?</strong></p><p>📅 Datum: dinsdag 20 mei 2026</p><p>⏰ Tijdstip: 12:30 - 14:30 uur</p><p>📍 &nbsp;Locatie: inZet Buytenwegh-De Leyens, Cesar Franckrode 64, 2717 BG Zoetermeer</p><p><strong>Meer informatie en aanmelden?</strong>&nbsp;</p><p>Ga naar <a href="//www.indigowest.nl/l/692547">www.indigowest.nl/l/692547</a></p><p><strong>Aanmelden kan ook bij de contactpersoon van de locatie:</strong></p><p>Saloua Bouzambou, 06 38994171, <a href="mailto:Saloua@stichtingpiezo.nl">Saloua@stichtingpiezo.nl</a></p><p><strong>Of aan de balie van de locatie zelf.</strong></p><p><strong>Inhoudelijke vragen?</strong></p><p>Thuan-Nhi Truong | Coördinator GGZ Preventie Zoetermeer</p><p>06 17 64 29 05 | T.Truong@indigohaaglanden.nl</p>
LAST-MODIFIED:20260425T215628Z
LOCATION: inZet Buytenwegh - De Leyens | César Franckrode 64 Zoetermeer
SEQUENCE:0
STATUS:CONFIRMED
SUMMARY:Workshop | Meer zelfvertrouwen
TRANSP:OPAQUE
END:VEVENT
END:VCALENDAR
