BEGIN:VCALENDAR
PRODID:-//PUBBLE//agenda//NL
VERSION:2.0
METHOD:PUBLISH
BEGIN:VEVENT
DTSTART:20260520T120000Z
DTEND:20260520T130000Z
DTSTAMP:20260421T091222Z
UID:3d833e8a-12de-413f-b311-050f02ec5817
CREATED:20260421T091222Z
NAME:Annie M.G. Schmidt streekbladzoetermeer.nl
X-WR-CALNAME:Annie M.G. Schmidt
X-ALT-DESC;FMTTYPE=text/html:<a href='/agenda/2026/5/20/annie-m-g-schmidt-167931'>/agenda/2026/5/20/annie-m-g-schmidt-167931</a> || <p>Deze activiteit is voor kinderen van 4 t/m 6 jaar oud.</p><p>In mei staan de woensdagmiddagen in de bibliotheek in het teken van van Annie M.G. Schmidt om haar verjaardag te vieren. Duik samen met de bieb in de bekende verhalen zoals&nbsp;Jip en Janneke&nbsp;en&nbsp;Pluk van de Petteflet!</p><p>Er is een gezellige poppenvoorstelling, er wordt interactief voorgelezen en we gaan allerlei speelse en leuke activiteiten doen.</p><p>Over deze activiteiten</p><p>Kom jij ook leuke dingen doen op woensdagmiddag? Elke maand wordt er op woensdagmiddag een andere leuke activiteit voor kinderen georganiseerd. Drie woensdagen per maand, elke keer in een andere bibliotheekvestiging in Zoetermeer! Doe je ook mee?</p><p>Graag alleen het aantal kinderen aanmelden.</p>
DESCRIPTION:<a href='/agenda/2026/5/20/annie-m-g-schmidt-167931'>/agenda/2026/5/20/annie-m-g-schmidt-167931</a> || <p>Deze activiteit is voor kinderen van 4 t/m 6 jaar oud.</p><p>In mei staan de woensdagmiddagen in de bibliotheek in het teken van van Annie M.G. Schmidt om haar verjaardag te vieren. Duik samen met de bieb in de bekende verhalen zoals&nbsp;Jip en Janneke&nbsp;en&nbsp;Pluk van de Petteflet!</p><p>Er is een gezellige poppenvoorstelling, er wordt interactief voorgelezen en we gaan allerlei speelse en leuke activiteiten doen.</p><p>Over deze activiteiten</p><p>Kom jij ook leuke dingen doen op woensdagmiddag? Elke maand wordt er op woensdagmiddag een andere leuke activiteit voor kinderen georganiseerd. Drie woensdagen per maand, elke keer in een andere bibliotheekvestiging in Zoetermeer! Doe je ook mee?</p><p>Graag alleen het aantal kinderen aanmelden.</p>
LAST-MODIFIED:20260421T091222Z
LOCATION: Wijkbibliotheek Rokkeveen | Nathaliegang 81 Zoetermeer
SEQUENCE:0
STATUS:CONFIRMED
SUMMARY:Annie M.G. Schmidt
TRANSP:OPAQUE
END:VEVENT
END:VCALENDAR
