BEGIN:VCALENDAR
PRODID:-//PUBBLE//agenda//NL
VERSION:2.0
METHOD:PUBLISH
BEGIN:VEVENT
DTSTART:20270108T173000Z
DTEND:20270108T213000Z
DTSTAMP:20260426T000146Z
UID:0f254758-a66d-42e7-8bef-a194886229dd
CREATED:20260426T000146Z
NAME:The Fortunate Sons - Creedence Clearwater Revival Tribute streekbladzoetermeer.nl
X-WR-CALNAME:The Fortunate Sons - Creedence Clearwater Revival Tribute
X-ALT-DESC;FMTTYPE=text/html:<a href='/agenda/2027/1/8/the-fortunate-sons-creedence-clearwater-revival-tribute-167735'>/agenda/2027/1/8/the-fortunate-sons-creedence-clearwater-revival-tribute-167735</a> || <p>The Fortunate Sons brengt de soundtrack van de jaren zestig en zeventig naar Zoetermeer. Als de ultieme Creedence Clearwater Revival tributeband zette ze eerder SBS6 en zélfs de Boerderij op zijn kop.</p><p>De klassiekers van Creedence (CCR) houden al generaties stand en mede dankzij The Fortunate Sons genieten we hier nog steeds van. De band wist in het SBS6-programma The Tribute – Battle of the Bands de muziek van CCR bij een groot publiek onder de aandacht te brengen en zorgde zo voor een ware CCR revival.</p>
DESCRIPTION:<a href='/agenda/2027/1/8/the-fortunate-sons-creedence-clearwater-revival-tribute-167735'>/agenda/2027/1/8/the-fortunate-sons-creedence-clearwater-revival-tribute-167735</a> || <p>The Fortunate Sons brengt de soundtrack van de jaren zestig en zeventig naar Zoetermeer. Als de ultieme Creedence Clearwater Revival tributeband zette ze eerder SBS6 en zélfs de Boerderij op zijn kop.</p><p>De klassiekers van Creedence (CCR) houden al generaties stand en mede dankzij The Fortunate Sons genieten we hier nog steeds van. De band wist in het SBS6-programma The Tribute – Battle of the Bands de muziek van CCR bij een groot publiek onder de aandacht te brengen en zorgde zo voor een ware CCR revival.</p>
LAST-MODIFIED:20260426T000146Z
LOCATION: Poppodium Boerderij | Amerikaweg 145 Zoetermeer
SEQUENCE:0
STATUS:CONFIRMED
SUMMARY:The Fortunate Sons - Creedence Clearwater Revival Tribute
TRANSP:OPAQUE
END:VEVENT
END:VCALENDAR
