BEGIN:VCALENDAR
PRODID:-//PUBBLE//agenda//NL
VERSION:2.0
METHOD:PUBLISH
BEGIN:VEVENT
DTSTART:20261004T173000Z
DTEND:20261004T213000Z
DTSTAMP:20260425T220832Z
UID:e3938fb7-0504-4323-b713-9e01d5d86ba2
CREATED:20260425T220832Z
NAME:Myrath streekbladzoetermeer.nl
X-WR-CALNAME:Myrath
X-ALT-DESC;FMTTYPE=text/html:<a href='/agenda/2026/10/4/myrath-167289'>/agenda/2026/10/4/myrath-167289</a> || <p>Myrath is een unieke metalband met wortels in Frankrijk en Tunesië, bekend om hun krachtige mix van metal en oosterse invloeden. Hun kenmerkende sound – door fans omschreven als&nbsp;Blazing Desert Metal&nbsp;– combineert messcherpe riffs, filmische composities en invloeden uit Afrikaanse, Indiase en Europese muziek tot een meeslepende en herkenbare stijl.<br><br></p><p>Het verhaal van Myrath is er een van doorzettingsvermogen. Tijdens de Tunesische revolutie werkte de band aan <em>Tales of the Sands</em> (2011), een album dat hun internationale doorbraak betekende. Sindsdien speelden ze op grote podia wereldwijd, van Europese festivals tot Japan en Noord- en Zuid-Amerika. In 2022 bereikten ze miljoenen kijkers met een optreden tijdens het WK voetbal in Qatar. Met <em>Karma</em> (2024) leverden ze een bombastisch en arena-waardig album af dat hun innovatieve koers bevestigt. Voor dit jaar staat een nieuw en ambitieus album gepland, inclusief een bijzonder duet met Elize Ryd (Amaranthe). Myrath bewijst dat muziek, geworteld in identiteit en cultuur, moeiteloos grenzen overstijgt.</p>
DESCRIPTION:<a href='/agenda/2026/10/4/myrath-167289'>/agenda/2026/10/4/myrath-167289</a> || <p>Myrath is een unieke metalband met wortels in Frankrijk en Tunesië, bekend om hun krachtige mix van metal en oosterse invloeden. Hun kenmerkende sound – door fans omschreven als&nbsp;Blazing Desert Metal&nbsp;– combineert messcherpe riffs, filmische composities en invloeden uit Afrikaanse, Indiase en Europese muziek tot een meeslepende en herkenbare stijl.<br><br></p><p>Het verhaal van Myrath is er een van doorzettingsvermogen. Tijdens de Tunesische revolutie werkte de band aan <em>Tales of the Sands</em> (2011), een album dat hun internationale doorbraak betekende. Sindsdien speelden ze op grote podia wereldwijd, van Europese festivals tot Japan en Noord- en Zuid-Amerika. In 2022 bereikten ze miljoenen kijkers met een optreden tijdens het WK voetbal in Qatar. Met <em>Karma</em> (2024) leverden ze een bombastisch en arena-waardig album af dat hun innovatieve koers bevestigt. Voor dit jaar staat een nieuw en ambitieus album gepland, inclusief een bijzonder duet met Elize Ryd (Amaranthe). Myrath bewijst dat muziek, geworteld in identiteit en cultuur, moeiteloos grenzen overstijgt.</p>
LAST-MODIFIED:20260425T220832Z
LOCATION: Poppodium Boerderij | Amerikaweg 145 Zoetermeer
SEQUENCE:0
STATUS:CONFIRMED
SUMMARY:Myrath
TRANSP:OPAQUE
END:VEVENT
END:VCALENDAR
