BEGIN:VCALENDAR
PRODID:-//PUBBLE//agenda//NL
VERSION:2.0
METHOD:PUBLISH
BEGIN:VEVENT
DTSTART:20261121T173000Z
DTEND:20261121T213000Z
DTSTAMP:20260426T000232Z
UID:35914e40-a81c-4106-a9a3-b8bdd7b57139
CREATED:20260426T000232Z
NAME:ACinDC streekbladzoetermeer.nl
X-WR-CALNAME:ACinDC
X-ALT-DESC;FMTTYPE=text/html:<a href='/agenda/2026/11/21/acindc-167288'>/agenda/2026/11/21/acindc-167288</a> || <p>Laat je verrassen door deze AC/DC tribute die zowel muzikaal als visueel af is. De tientallen jaren podiumervaring in de AC/DC tribute wereld die deze rockers achter zich hebben, is duidelijk te proeven!</p><p>Deze speciale cocktail tussen de ritmesectie van ACTION IN DC, de Bon Scott performer John Blandford en de energieke Jasper Mouws als Angus, staat garant voor een spetterende AC/DC show. Bereid je voor op een setlist vol iconische hits van zowel Bon Scott als Brian Johnson, samengesmeed tot één adembenemende rockshow. Muzikaal perfect, visueel spectaculair – dé AC/DC-tribute die je niet wilt missen!</p>
DESCRIPTION:<a href='/agenda/2026/11/21/acindc-167288'>/agenda/2026/11/21/acindc-167288</a> || <p>Laat je verrassen door deze AC/DC tribute die zowel muzikaal als visueel af is. De tientallen jaren podiumervaring in de AC/DC tribute wereld die deze rockers achter zich hebben, is duidelijk te proeven!</p><p>Deze speciale cocktail tussen de ritmesectie van ACTION IN DC, de Bon Scott performer John Blandford en de energieke Jasper Mouws als Angus, staat garant voor een spetterende AC/DC show. Bereid je voor op een setlist vol iconische hits van zowel Bon Scott als Brian Johnson, samengesmeed tot één adembenemende rockshow. Muzikaal perfect, visueel spectaculair – dé AC/DC-tribute die je niet wilt missen!</p>
LAST-MODIFIED:20260426T000232Z
LOCATION: Poppodium Boerderij | Amerikaweg 145 Zoetermeer
SEQUENCE:0
STATUS:CONFIRMED
SUMMARY:ACinDC
TRANSP:OPAQUE
END:VEVENT
END:VCALENDAR
