BEGIN:VCALENDAR
PRODID:-//PUBBLE//agenda//NL
VERSION:2.0
METHOD:PUBLISH
BEGIN:VEVENT
DTSTART:20260926T173000Z
DTEND:20260926T213000Z
DTSTAMP:20260425T220251Z
UID:6fc097aa-53ca-4f3b-a8d3-5afa28c48e5e
CREATED:20260425T220251Z
NAME:Vroeg Pieken streekbladzoetermeer.nl
X-WR-CALNAME:Vroeg Pieken
X-ALT-DESC;FMTTYPE=text/html:<a href='/agenda/2026/9/26/vroeg-pieken-167287'>/agenda/2026/9/26/vroeg-pieken-167287</a> || <p>Zin om vroeg te dansen? Kom naar Vroeg Pieken!Je hoeft niet tot middernacht te wachten om los te gaan op je favoriete nummers. Vroeg Pieken start om 20:00 uur en zorgt ervoor dat je om 00:30 uur helemaal voldaan de dansvloer verlaat. Of je nou je weekend begint of er middenin zit: bij Vroeg Pieken kan je lekker vroeg losgaan op door jou gekozen hitjes, onder een regen van confetti en tussen de opblaasgekte. Ideaal toch?</p><p>Je hebt zelf invloed op de nummers die bij Vroeg Pieken gedraaid worden. Niet door ze op de avond zelf aan de DJ door te geven, maar door ze in te sturen via de website van Vroeg Pieken. Het kan het hitje zijn waar je trots op bent, maar ook zeker je guilty pleasure. Van disco tot pop, van salsa tot hiphop. Uit welk jaar dan ook. Als het maar dansbaar is. De kaartverkoop loopt niet via Poppodium Boerderij maar via Vroeg Pieken zelf.</p>
DESCRIPTION:<a href='/agenda/2026/9/26/vroeg-pieken-167287'>/agenda/2026/9/26/vroeg-pieken-167287</a> || <p>Zin om vroeg te dansen? Kom naar Vroeg Pieken!Je hoeft niet tot middernacht te wachten om los te gaan op je favoriete nummers. Vroeg Pieken start om 20:00 uur en zorgt ervoor dat je om 00:30 uur helemaal voldaan de dansvloer verlaat. Of je nou je weekend begint of er middenin zit: bij Vroeg Pieken kan je lekker vroeg losgaan op door jou gekozen hitjes, onder een regen van confetti en tussen de opblaasgekte. Ideaal toch?</p><p>Je hebt zelf invloed op de nummers die bij Vroeg Pieken gedraaid worden. Niet door ze op de avond zelf aan de DJ door te geven, maar door ze in te sturen via de website van Vroeg Pieken. Het kan het hitje zijn waar je trots op bent, maar ook zeker je guilty pleasure. Van disco tot pop, van salsa tot hiphop. Uit welk jaar dan ook. Als het maar dansbaar is. De kaartverkoop loopt niet via Poppodium Boerderij maar via Vroeg Pieken zelf.</p>
LAST-MODIFIED:20260425T220251Z
LOCATION: Poppodium Boerderij | Amerikaweg 145 Zoetermeer
SEQUENCE:0
STATUS:CONFIRMED
SUMMARY:Vroeg Pieken
TRANSP:OPAQUE
END:VEVENT
END:VCALENDAR
