BEGIN:VCALENDAR
PRODID:-//PUBBLE//agenda//NL
VERSION:2.0
METHOD:PUBLISH
BEGIN:VEVENT
DTSTART:20260627T173000Z
DTEND:20260627T213000Z
DTSTAMP:20260425T221530Z
UID:f26eeff5-daf9-4859-bcb9-51e79edbf891
CREATED:20260425T221530Z
NAME:The Clarks ft. Rinus Gerritsen & Cesar Zuiderwijk - extra show! streekbladzoetermeer.nl
X-WR-CALNAME:The Clarks ft. Rinus Gerritsen & Cesar Zuiderwijk - extra show!
X-ALT-DESC;FMTTYPE=text/html:<a href='/agenda/2026/6/27/the-clarks-ft-rinus-gerritsen-cesar-zuiderwijk-extra-show--167286'>/agenda/2026/6/27/the-clarks-ft-rinus-gerritsen-cesar-zuiderwijk-extra-show--167286</a> || <p>De eerste datum was in no time uitverkocht dus dit is een nieuwe kans om hier bij te zijn!The Clarks eren de muziek van Golden Earring met niemand minder dan Rinus Gerritsen en Cesar Zuiderwijk zelf. Deze originele Earring-leden staan deze avond samen met de Haagse rockband op het podium om klassiekers als&nbsp;Radar Love&nbsp;en&nbsp;Twilight Zone&nbsp;nieuw leven in te blazen.<br><br></p><p>The Clarks is een classic rockband uit Den Haag, bekend om hun energieke vertolkingen van iconische hits uit de jaren 70 en 80. Ze weten zowel nostalgie op te roepen als nieuwe generaties kennis te laten maken met de tijdloze klanken van de beste classic rock. De samenwerking met Rinus Gerritsen en Cesar Zuiderwijk is een uniek eerbetoon waarin de iconische nummers van Golden Earring klinken zoals toen, met de originele energie en bezieling. Je ervaart de kracht van de band die wereldwijd miljoenen fans heeft geïnspireerd, uitgevoerd door muzikanten die de muziek van dichtbij hebben meegemaakt.</p>
DESCRIPTION:<a href='/agenda/2026/6/27/the-clarks-ft-rinus-gerritsen-cesar-zuiderwijk-extra-show--167286'>/agenda/2026/6/27/the-clarks-ft-rinus-gerritsen-cesar-zuiderwijk-extra-show--167286</a> || <p>De eerste datum was in no time uitverkocht dus dit is een nieuwe kans om hier bij te zijn!The Clarks eren de muziek van Golden Earring met niemand minder dan Rinus Gerritsen en Cesar Zuiderwijk zelf. Deze originele Earring-leden staan deze avond samen met de Haagse rockband op het podium om klassiekers als&nbsp;Radar Love&nbsp;en&nbsp;Twilight Zone&nbsp;nieuw leven in te blazen.<br><br></p><p>The Clarks is een classic rockband uit Den Haag, bekend om hun energieke vertolkingen van iconische hits uit de jaren 70 en 80. Ze weten zowel nostalgie op te roepen als nieuwe generaties kennis te laten maken met de tijdloze klanken van de beste classic rock. De samenwerking met Rinus Gerritsen en Cesar Zuiderwijk is een uniek eerbetoon waarin de iconische nummers van Golden Earring klinken zoals toen, met de originele energie en bezieling. Je ervaart de kracht van de band die wereldwijd miljoenen fans heeft geïnspireerd, uitgevoerd door muzikanten die de muziek van dichtbij hebben meegemaakt.</p>
LAST-MODIFIED:20260425T221530Z
LOCATION: Poppodium Boerderij | Amerikaweg 145 Zoetermeer
SEQUENCE:0
STATUS:CONFIRMED
SUMMARY:The Clarks ft. Rinus Gerritsen & Cesar Zuiderwijk - extra show!
TRANSP:OPAQUE
END:VEVENT
END:VCALENDAR
