BEGIN:VCALENDAR
PRODID:-//PUBBLE//agenda//NL
VERSION:2.0
METHOD:PUBLISH
BEGIN:VEVENT
DTSTART:20260524T173000Z
DTEND:20260524T213000Z
DTSTAMP:20260425T220041Z
UID:d0ea6e00-bcf0-4519-ad2d-7a203739186e
CREATED:20260425T220041Z
NAME:Earthside streekbladzoetermeer.nl
X-WR-CALNAME:Earthside
X-ALT-DESC;FMTTYPE=text/html:<a href='/agenda/2026/5/24/earthside-167285'>/agenda/2026/5/24/earthside-167285</a> || <p>Earthside beweegt zich op het snijvlak van progressive metal en post-rock, maar laat zich niet in een hokje plaatsen. Het resultaat is muziek die groots en filmisch klinkt, maar tegelijk persoonlijk en oprecht blijft.</p><p>Live weet Earthside zich duidelijk te onderscheiden. De band schakelt moeiteloos tussen krachtige instrumentale passages en rijk gelaagde composities, versterkt door visuele elementen en samenwerkingen die hun muziek extra diepte geven. Een Earthside-show is een zorgvuldig opgebouwde reis vol contrast en spanningsbogen. Met het album Let The Truth Speak sloeg Earthside een nieuw hoofdstuk open waarin thema’s als waarheid, reflectie en verbinding centraal staan. Het album wordt internationaal geprezen om zijn creatieve durf, filosofische lading en emotionele impact. Critici noemen het een gelaagd, krachtig en ontzettend betekenisvol album.</p>
DESCRIPTION:<a href='/agenda/2026/5/24/earthside-167285'>/agenda/2026/5/24/earthside-167285</a> || <p>Earthside beweegt zich op het snijvlak van progressive metal en post-rock, maar laat zich niet in een hokje plaatsen. Het resultaat is muziek die groots en filmisch klinkt, maar tegelijk persoonlijk en oprecht blijft.</p><p>Live weet Earthside zich duidelijk te onderscheiden. De band schakelt moeiteloos tussen krachtige instrumentale passages en rijk gelaagde composities, versterkt door visuele elementen en samenwerkingen die hun muziek extra diepte geven. Een Earthside-show is een zorgvuldig opgebouwde reis vol contrast en spanningsbogen. Met het album Let The Truth Speak sloeg Earthside een nieuw hoofdstuk open waarin thema’s als waarheid, reflectie en verbinding centraal staan. Het album wordt internationaal geprezen om zijn creatieve durf, filosofische lading en emotionele impact. Critici noemen het een gelaagd, krachtig en ontzettend betekenisvol album.</p>
LAST-MODIFIED:20260425T220041Z
LOCATION: Poppodium Boerderij | Amerikaweg 145 Zoetermeer
SEQUENCE:0
STATUS:CONFIRMED
SUMMARY:Earthside
TRANSP:OPAQUE
END:VEVENT
END:VCALENDAR
