BEGIN:VCALENDAR
PRODID:-//PUBBLE//agenda//NL
VERSION:2.0
METHOD:PUBLISH
BEGIN:VEVENT
DTSTART:20270129T173000Z
DTEND:20270129T213000Z
DTSTAMP:20260426T000455Z
UID:052832d6-7415-49a1-bc3e-1dca86a1879d
CREATED:20260426T000455Z
NAME:Rock Party of the Year 2027 streekbladzoetermeer.nl
X-WR-CALNAME:Rock Party of the Year 2027
X-ALT-DESC;FMTTYPE=text/html:<a href='/agenda/2027/1/29/rock-party-of-the-year-2027-167282'>/agenda/2027/1/29/rock-party-of-the-year-2027-167282</a> || <p>De uitverkochte Rock Party Of The Year was begin dit jaar weer een enorm succes!. Een avond vol tijdloze rockhits, rauwe energie en onvergetelijk feest. Inmiddels alweer de 5e editie van deze show, ontstaan in de Boerderij. Meer info en invulling over deze show volgt snel, maar verwacht weer een mooie line-up met bekende en nieuwe namen. </p>
DESCRIPTION:<a href='/agenda/2027/1/29/rock-party-of-the-year-2027-167282'>/agenda/2027/1/29/rock-party-of-the-year-2027-167282</a> || <p>De uitverkochte Rock Party Of The Year was begin dit jaar weer een enorm succes!. Een avond vol tijdloze rockhits, rauwe energie en onvergetelijk feest. Inmiddels alweer de 5e editie van deze show, ontstaan in de Boerderij. Meer info en invulling over deze show volgt snel, maar verwacht weer een mooie line-up met bekende en nieuwe namen. </p>
LAST-MODIFIED:20260426T000455Z
LOCATION: Poppodium Boerderij | Amerikaweg 145 Zoetermeer
SEQUENCE:0
STATUS:CONFIRMED
SUMMARY:Rock Party of the Year 2027
TRANSP:OPAQUE
END:VEVENT
END:VCALENDAR
