BEGIN:VCALENDAR
PRODID:-//PUBBLE//agenda//NL
VERSION:2.0
METHOD:PUBLISH
BEGIN:VEVENT
DTSTART:20270213T173000Z
DTEND:20270213T213000Z
DTSTAMP:20260426T000456Z
UID:af7a6444-8c4e-40b3-b0b0-3b2adfc5ca95
CREATED:20260426T000456Z
NAME:A-Fever streekbladzoetermeer.nl
X-WR-CALNAME:A-Fever
X-ALT-DESC;FMTTYPE=text/html:<a href='/agenda/2027/2/13/a-fever-167140'>/agenda/2027/2/13/a-fever-167140</a> || <p>A-Fever is dé ABBA-tribute van Nederland en komt in 2027 terug naar de Boerderij met een spectaculaire show. Na hun succes in The Tribute – Battle of the Bands (SBS6) bewijzen ze keer op keer waarom ze tot de top behoren. Verwacht een avond vol energie, nostalgie en meezinghits van ABBA, van <em>Dancing Queen</em> en <em>Waterloo</em> tot verrassende parels voor de echte fans. </p>
DESCRIPTION:<a href='/agenda/2027/2/13/a-fever-167140'>/agenda/2027/2/13/a-fever-167140</a> || <p>A-Fever is dé ABBA-tribute van Nederland en komt in 2027 terug naar de Boerderij met een spectaculaire show. Na hun succes in The Tribute – Battle of the Bands (SBS6) bewijzen ze keer op keer waarom ze tot de top behoren. Verwacht een avond vol energie, nostalgie en meezinghits van ABBA, van <em>Dancing Queen</em> en <em>Waterloo</em> tot verrassende parels voor de echte fans. </p>
LAST-MODIFIED:20260426T000456Z
LOCATION: Poppodium Boerderij | Amerikaweg 145 Zoetermeer
SEQUENCE:0
STATUS:CONFIRMED
SUMMARY:A-Fever
TRANSP:OPAQUE
END:VEVENT
END:VCALENDAR
