BEGIN:VCALENDAR
PRODID:-//PUBBLE//agenda//NL
VERSION:2.0
METHOD:PUBLISH
BEGIN:VEVENT
DTSTART:20270123T173000Z
DTEND:20270123T213000Z
DTSTAMP:20260426T000536Z
UID:44d92914-57a1-4a52-815a-f6aa05f594ed
CREATED:20260426T000536Z
NAME:Bjørn Riis streekbladzoetermeer.nl
X-WR-CALNAME:Bjørn Riis
X-ALT-DESC;FMTTYPE=text/html:<a href='/agenda/2027/1/23/bjorn-riis-167090'>/agenda/2027/1/23/bjorn-riis-167090</a> || <p>Bjørn Riis (Airbag) geldt als een van de toonaangevende stemmen in de Noorse progressieve rock. Als songwriter, multi-instrumentalist en producer maakt hij gelaagde, sfeervolle muziek waarin melodie en emotie centraal staan. Sinds zijn solodebuut<em>&nbsp;Lullabies in a Car Crash</em> (2014) bouwt hij aan een sterk oeuvre waarin prog samensmelt met invloeden van onder meer Pink Floyd, Porcupine Tree, elektronica en filmmuziek. Zijn kenmerkende gitaarspel en introspectieve teksten geven zijn werk een intens en meeslepend karakter. Met<em>&nbsp;Fimbulvinter</em> (2025) levert hij volgens velen zijn sterkste album tot nu toe af.</p><p>Zijn solocarrière ontwikkelt zich al jaren zij aan zij met zijn werk als oprichter en belangrijkste componist van Airbag. In beide trajecten staat Riis zelf centraal als creatieve motor: verantwoordelijk voor het merendeel van het songmateriaal, de muzikale koers en het karakteristieke geluid. Terwijl hij onder eigen naam een steeds persoonlijker en avontuurlijker pad bewandelt, bouwde hij met Airbag aan een sterke internationale reputatie, met veelgeprezen albums als <em>The Century of the Self</em> (2024) en optredens op grote festivals en podia naast artiesten als Marillion, Yes en Riverside.</p>
DESCRIPTION:<a href='/agenda/2027/1/23/bjorn-riis-167090'>/agenda/2027/1/23/bjorn-riis-167090</a> || <p>Bjørn Riis (Airbag) geldt als een van de toonaangevende stemmen in de Noorse progressieve rock. Als songwriter, multi-instrumentalist en producer maakt hij gelaagde, sfeervolle muziek waarin melodie en emotie centraal staan. Sinds zijn solodebuut<em>&nbsp;Lullabies in a Car Crash</em> (2014) bouwt hij aan een sterk oeuvre waarin prog samensmelt met invloeden van onder meer Pink Floyd, Porcupine Tree, elektronica en filmmuziek. Zijn kenmerkende gitaarspel en introspectieve teksten geven zijn werk een intens en meeslepend karakter. Met<em>&nbsp;Fimbulvinter</em> (2025) levert hij volgens velen zijn sterkste album tot nu toe af.</p><p>Zijn solocarrière ontwikkelt zich al jaren zij aan zij met zijn werk als oprichter en belangrijkste componist van Airbag. In beide trajecten staat Riis zelf centraal als creatieve motor: verantwoordelijk voor het merendeel van het songmateriaal, de muzikale koers en het karakteristieke geluid. Terwijl hij onder eigen naam een steeds persoonlijker en avontuurlijker pad bewandelt, bouwde hij met Airbag aan een sterke internationale reputatie, met veelgeprezen albums als <em>The Century of the Self</em> (2024) en optredens op grote festivals en podia naast artiesten als Marillion, Yes en Riverside.</p>
LAST-MODIFIED:20260426T000536Z
LOCATION: Poppodium Boerderij | Amerikaweg 145 Zoetermeer
SEQUENCE:0
STATUS:CONFIRMED
SUMMARY:Bjørn Riis
TRANSP:OPAQUE
END:VEVENT
END:VCALENDAR
