BEGIN:VCALENDAR
PRODID:-//PUBBLE//agenda//NL
VERSION:2.0
METHOD:PUBLISH
BEGIN:VEVENT
DTSTART:20260429T110000Z
DTEND:20260429T130000Z
DTSTAMP:20260425T220230Z
UID:d90247b3-ae11-4422-abf1-8200db0af933
CREATED:20260425T220230Z
NAME:Workshop | Meer contact streekbladzoetermeer.nl
X-WR-CALNAME:Workshop | Meer contact
X-ALT-DESC;FMTTYPE=text/html:<a href='/agenda/2026/4/29/workshop-meer-contact-167026'>/agenda/2026/4/29/workshop-meer-contact-167026</a> || <p><strong>Werken aan vriendschap</strong></p><p><strong>Zijn de volgende uitspraken herkenbaar?&nbsp;</strong></p><p>💬 Dat eerste contact leggen vind ik zo moeilijk. Zomaar op iemand afstappen vind ik erg spannend. 💬 Ik heb wel vrienden, maar het contact is oppervlakkig. Het komt bijna nooit tot een echt gesprek. 💬 Ik ben net verhuisd. Ik zou graag nieuwe mensen willen leren kennen.&nbsp;</p><p>💬 Ik voel me onzeker in contacten met anderen. Zitten ze wel op mij te wachten?&nbsp;</p><p><strong>Meld je dan aan voor deze gratis workshop!</strong></p><p>Wissel ideeën uit over het maken en onderhouden van contacten en maak kennis met verschillende technieken die hier aan kunnen bijdragen.</p><p><strong>Wanneer en hoe laat?</strong></p><p>📅 Datum: woensdag 29 april 2026</p><p>⏰ Tijdstip: 13:00 - 15:00 uur</p><p>📍 &nbsp;Locatie: inZet Seghwaert &amp; Noordhove, Petuniatuin 7A 2724 NA Zoetermeer</p><p><strong>Meer informatie en aanmelden?&nbsp;</strong></p><p>Ga naar <a href="//www.indigowest.nl/l/692608">www.indigowest.nl/l/692608</a></p><p><strong>Aanmelden kan ook bij de contactpersoon van de locatie:</strong><br>Taffy van der Heijden, t.vanderheijden@inzet-indewijk.nl, 06 46 361 374</p><p>Of aan de balie van de locatie zelf.</p><p><strong>Inhoudelijke vragen?</strong></p><p>Thuan-Nhi Truong | Coördinator GGZ Preventie Zoetermeer</p><p>06 17 64 29 05 | T.Truong@indigohaaglanden.nl</p>
DESCRIPTION:<a href='/agenda/2026/4/29/workshop-meer-contact-167026'>/agenda/2026/4/29/workshop-meer-contact-167026</a> || <p><strong>Werken aan vriendschap</strong></p><p><strong>Zijn de volgende uitspraken herkenbaar?&nbsp;</strong></p><p>💬 Dat eerste contact leggen vind ik zo moeilijk. Zomaar op iemand afstappen vind ik erg spannend. 💬 Ik heb wel vrienden, maar het contact is oppervlakkig. Het komt bijna nooit tot een echt gesprek. 💬 Ik ben net verhuisd. Ik zou graag nieuwe mensen willen leren kennen.&nbsp;</p><p>💬 Ik voel me onzeker in contacten met anderen. Zitten ze wel op mij te wachten?&nbsp;</p><p><strong>Meld je dan aan voor deze gratis workshop!</strong></p><p>Wissel ideeën uit over het maken en onderhouden van contacten en maak kennis met verschillende technieken die hier aan kunnen bijdragen.</p><p><strong>Wanneer en hoe laat?</strong></p><p>📅 Datum: woensdag 29 april 2026</p><p>⏰ Tijdstip: 13:00 - 15:00 uur</p><p>📍 &nbsp;Locatie: inZet Seghwaert &amp; Noordhove, Petuniatuin 7A 2724 NA Zoetermeer</p><p><strong>Meer informatie en aanmelden?&nbsp;</strong></p><p>Ga naar <a href="//www.indigowest.nl/l/692608">www.indigowest.nl/l/692608</a></p><p><strong>Aanmelden kan ook bij de contactpersoon van de locatie:</strong><br>Taffy van der Heijden, t.vanderheijden@inzet-indewijk.nl, 06 46 361 374</p><p>Of aan de balie van de locatie zelf.</p><p><strong>Inhoudelijke vragen?</strong></p><p>Thuan-Nhi Truong | Coördinator GGZ Preventie Zoetermeer</p><p>06 17 64 29 05 | T.Truong@indigohaaglanden.nl</p>
LAST-MODIFIED:20260425T220230Z
LOCATION: InZet SeghWaert & Noordhove | Petuniatuin 7A Zoetermeer
SEQUENCE:0
STATUS:CONFIRMED
SUMMARY:Workshop | Meer contact
TRANSP:OPAQUE
END:VEVENT
END:VCALENDAR
