BEGIN:VCALENDAR
PRODID:-//PUBBLE//agenda//NL
VERSION:2.0
METHOD:PUBLISH
BEGIN:VEVENT
DTSTART:20260422T103000Z
DTEND:20260422T123000Z
DTSTAMP:20260420T133550Z
UID:4eca713c-dd0b-4c7b-91d8-ce0d77029959
CREATED:20260420T133550Z
NAME:Workshop | (Over)Prikkels streekbladzoetermeer.nl
X-WR-CALNAME:Workshop | (Over)Prikkels
X-ALT-DESC;FMTTYPE=text/html:<a href='/agenda/2026/4/22/workshop-over-prikkels-167025'>/agenda/2026/4/22/workshop-over-prikkels-167025</a> || <p><strong>Meer grip op over- en onderprikkeling</strong></p><p><strong>Zijn de volgende uitspraken herkenbaar?&nbsp;</strong></p><p>💬 Ik vraag me af hoe prikkels mijn energie beïnvloeden.&nbsp;</p><p>💬 Soms twijfel ik of ik overprikkeld ben of juist onderprikkeld.&nbsp;</p><p>💬 In een volle supermarkt of op een feest merk ik dat bepaalde situaties me veel energie kosten, maar ik weet niet precies waarom.&nbsp;</p><p><strong>Meld je dan aan voor deze gratis workshop!</strong></p><p>Ontdek hoe verschillende prikkels jou beïnvloeden en leer je meer over overprikkeling en onderprikkeling. Je hoort ervaringen van anderen en krijgt handvatten om er zelf beter mee om te gaan.</p><p><strong>Wanneer en hoe laat?</strong></p><p>📅 Datum: woensdag 22 april 2026</p><p>⏰ Tijdstip: 12:30 - 14:30 uur</p><p>📍 &nbsp;Locatie: inZet Meerzicht, Uiterwaard 21, 2716 VA Zoetermeer</p><p><strong>Meer informatie en aanmelden?&nbsp;</strong></p><p>Ga naar www.indigowest.nl/l/5552321</p><p><strong>Aanmelden kan ook bij de contactpersoon van de locatie:</strong>Natalia Sadinska, natalia@stichtingpiezo.nl, 06 46 863 212</p><p>Of aan de balie van de locatie zelf.</p><p><strong>Inhoudelijke vragen?</strong></p><p>Thuan-Nhi Truong | Coördinator GGZ Preventie Zoetermeer</p><p>06 17 64 29 05 | T.Truong@indigohaaglanden.nl</p>
DESCRIPTION:<a href='/agenda/2026/4/22/workshop-over-prikkels-167025'>/agenda/2026/4/22/workshop-over-prikkels-167025</a> || <p><strong>Meer grip op over- en onderprikkeling</strong></p><p><strong>Zijn de volgende uitspraken herkenbaar?&nbsp;</strong></p><p>💬 Ik vraag me af hoe prikkels mijn energie beïnvloeden.&nbsp;</p><p>💬 Soms twijfel ik of ik overprikkeld ben of juist onderprikkeld.&nbsp;</p><p>💬 In een volle supermarkt of op een feest merk ik dat bepaalde situaties me veel energie kosten, maar ik weet niet precies waarom.&nbsp;</p><p><strong>Meld je dan aan voor deze gratis workshop!</strong></p><p>Ontdek hoe verschillende prikkels jou beïnvloeden en leer je meer over overprikkeling en onderprikkeling. Je hoort ervaringen van anderen en krijgt handvatten om er zelf beter mee om te gaan.</p><p><strong>Wanneer en hoe laat?</strong></p><p>📅 Datum: woensdag 22 april 2026</p><p>⏰ Tijdstip: 12:30 - 14:30 uur</p><p>📍 &nbsp;Locatie: inZet Meerzicht, Uiterwaard 21, 2716 VA Zoetermeer</p><p><strong>Meer informatie en aanmelden?&nbsp;</strong></p><p>Ga naar www.indigowest.nl/l/5552321</p><p><strong>Aanmelden kan ook bij de contactpersoon van de locatie:</strong>Natalia Sadinska, natalia@stichtingpiezo.nl, 06 46 863 212</p><p>Of aan de balie van de locatie zelf.</p><p><strong>Inhoudelijke vragen?</strong></p><p>Thuan-Nhi Truong | Coördinator GGZ Preventie Zoetermeer</p><p>06 17 64 29 05 | T.Truong@indigohaaglanden.nl</p>
LAST-MODIFIED:20260420T133550Z
LOCATION: inZet Meerzicht | Uiterwaard 21 Zoetermeer
SEQUENCE:0
STATUS:CONFIRMED
SUMMARY:Workshop | (Over)Prikkels
TRANSP:OPAQUE
END:VEVENT
END:VCALENDAR
