BEGIN:VCALENDAR
PRODID:-//PUBBLE//agenda//NL
VERSION:2.0
METHOD:PUBLISH
BEGIN:VEVENT
DTSTART:20260911T173000Z
DTEND:20260911T213000Z
DTSTAMP:20260425T220656Z
UID:6657f52b-e7bf-4ea5-97cf-ca1f936a8544
CREATED:20260425T220656Z
NAME:Century’s Crime - A Tribute to Supertramp streekbladzoetermeer.nl
X-WR-CALNAME:Century’s Crime - A Tribute to Supertramp
X-ALT-DESC;FMTTYPE=text/html:<a href='/agenda/2026/9/11/centurys-crime-a-tribute-to-supertramp-166830'>/agenda/2026/9/11/centurys-crime-a-tribute-to-supertramp-166830</a> || <p>Deze Supertramp tribute is een eerbetoon&nbsp;aan de klassieke line-up en het illustere succesverhaal van Supertramp. Hun muziek wordt&nbsp;met liefde en precisie uitgevoerd, waardoor fans zich even terug wanen in de gloriedagen van deze legendarische band.<br><br></p><p>In een energiegedreven liveconcert levert Century’s Crime de klassieke liedjes en wereldberoemde hits zoals de originele band. De bandleden zijn vanzelfsprekend allemaal die-hard Supertramp-fans. Century’s Crime weet het herkenbare en unieke geluid van Supertramp te evenaren. Tijdens een show komen alle hits en klassiekers voorbij: <em>Dreamer, School, Breakfast in America, Goodbye Stranger, It’s Raining Again, Take the Long Way Home, The Logical Song, My Kind of Lady, Crime of the Century</em> en nog veel meer. Century’s Crime brengt deze nummers en vele andere hits weer tot leven!</p>
DESCRIPTION:<a href='/agenda/2026/9/11/centurys-crime-a-tribute-to-supertramp-166830'>/agenda/2026/9/11/centurys-crime-a-tribute-to-supertramp-166830</a> || <p>Deze Supertramp tribute is een eerbetoon&nbsp;aan de klassieke line-up en het illustere succesverhaal van Supertramp. Hun muziek wordt&nbsp;met liefde en precisie uitgevoerd, waardoor fans zich even terug wanen in de gloriedagen van deze legendarische band.<br><br></p><p>In een energiegedreven liveconcert levert Century’s Crime de klassieke liedjes en wereldberoemde hits zoals de originele band. De bandleden zijn vanzelfsprekend allemaal die-hard Supertramp-fans. Century’s Crime weet het herkenbare en unieke geluid van Supertramp te evenaren. Tijdens een show komen alle hits en klassiekers voorbij: <em>Dreamer, School, Breakfast in America, Goodbye Stranger, It’s Raining Again, Take the Long Way Home, The Logical Song, My Kind of Lady, Crime of the Century</em> en nog veel meer. Century’s Crime brengt deze nummers en vele andere hits weer tot leven!</p>
LAST-MODIFIED:20260425T220656Z
LOCATION: Poppodium Boerderij | Amerikaweg 145 Zoetermeer
SEQUENCE:0
STATUS:CONFIRMED
SUMMARY:Century’s Crime - A Tribute to Supertramp
TRANSP:OPAQUE
END:VEVENT
END:VCALENDAR
