BEGIN:VCALENDAR
PRODID:-//PUBBLE//agenda//NL
VERSION:2.0
METHOD:PUBLISH
BEGIN:VEVENT
DTSTART:20260718T173000Z
DTEND:20260718T213000Z
DTSTAMP:20260425T220833Z
UID:3bc68987-fb47-404c-bcf4-71c9707844ed
CREATED:20260425T220833Z
NAME:Eric Johnson - Texaphonic Europe Tour 2026 streekbladzoetermeer.nl
X-WR-CALNAME:Eric Johnson - Texaphonic Europe Tour 2026
X-ALT-DESC;FMTTYPE=text/html:<a href='/agenda/2026/7/18/eric-johnson-texaphonic-europe-tour-2026-166829'>/agenda/2026/7/18/eric-johnson-texaphonic-europe-tour-2026-166829</a> || <p>Eric Johnson is een van de meest gerespecteerde en invloedrijke gitaristen van zijn generatie. Johnson ontwikkelde een unieke stijl die virtuositeit combineert met melodie, gevoel en verfijning. Vergelijkingen met grootheden als Jimi Hendrix en Jeff Beck volgden al vroeg, en met zijn band Electromagnets werd hij een sleutelfiguur binnen de Amerikaanse fusion- en rockscene.<br><br></p><p>Eric Johnson staat bekend om zijn genre-overstijgende aanpak, waarin rock, blues, jazz, fusion en klassieke invloeden moeiteloos samenkomen. Naast gitarist is hij ook zanger, pianist en songwriter. Zijn voortdurende zoektocht naar muzikale verdieping en artistieke groei maakt hem tot een blijvende inspiratiebron voor muzikanten en liefhebbers wereldwijd. Johnson heeft inmiddels een indrukwekkende carrière opgebouwd met zeventien soloalbums, internationale tours en samenwerkingen met topgitaristen als Joe Satriani, Steve Vai en Mike Stern.</p>
DESCRIPTION:<a href='/agenda/2026/7/18/eric-johnson-texaphonic-europe-tour-2026-166829'>/agenda/2026/7/18/eric-johnson-texaphonic-europe-tour-2026-166829</a> || <p>Eric Johnson is een van de meest gerespecteerde en invloedrijke gitaristen van zijn generatie. Johnson ontwikkelde een unieke stijl die virtuositeit combineert met melodie, gevoel en verfijning. Vergelijkingen met grootheden als Jimi Hendrix en Jeff Beck volgden al vroeg, en met zijn band Electromagnets werd hij een sleutelfiguur binnen de Amerikaanse fusion- en rockscene.<br><br></p><p>Eric Johnson staat bekend om zijn genre-overstijgende aanpak, waarin rock, blues, jazz, fusion en klassieke invloeden moeiteloos samenkomen. Naast gitarist is hij ook zanger, pianist en songwriter. Zijn voortdurende zoektocht naar muzikale verdieping en artistieke groei maakt hem tot een blijvende inspiratiebron voor muzikanten en liefhebbers wereldwijd. Johnson heeft inmiddels een indrukwekkende carrière opgebouwd met zeventien soloalbums, internationale tours en samenwerkingen met topgitaristen als Joe Satriani, Steve Vai en Mike Stern.</p>
LAST-MODIFIED:20260425T220833Z
LOCATION: Poppodium Boerderij | Amerikaweg 145 Zoetermeer
SEQUENCE:0
STATUS:CONFIRMED
SUMMARY:Eric Johnson - Texaphonic Europe Tour 2026
TRANSP:OPAQUE
END:VEVENT
END:VCALENDAR
