BEGIN:VCALENDAR
PRODID:-//PUBBLE//agenda//NL
VERSION:2.0
METHOD:PUBLISH
BEGIN:VEVENT
DTSTART:20260613T173000Z
DTEND:20260613T213000Z
DTSTAMP:20260425T220655Z
UID:32048bc5-a3eb-414f-93d4-b62f476a2e0f
CREATED:20260425T220655Z
NAME:Evergrey streekbladzoetermeer.nl
X-WR-CALNAME:Evergrey
X-ALT-DESC;FMTTYPE=text/html:<a href='/agenda/2026/6/13/evergrey-166773'>/agenda/2026/6/13/evergrey-166773</a> || <p>De Zweedse progressieve metalband Evergrey creëert met verpletterende riffs, levendige modulaties en symfonische vlagen, donkere teksten en zanger Tom S. Englunds rauwe stem meeslepende verhalen en sensationele sonische werelden. <br><br></p><p>In de dertig jaar dat Evergrey meegaat heeft de band zestien studioalbums uitgebracht. In 2025 kwam hier hun nieuwe single <em>OXYGEN!</em> bij. Met Vikram Shankar (van Within Temptation en Silent Skies) in het productieteam en Adam Getgood (die eerde met giganten als Periphery, Sleep Token en Architects werkte) voor de mix houdt de band hun sound vitaal en modern. Op tours door Europa, Noord en Zuid Amerika, Azië trekt de band diehards en jonge fans en op het podium ontbreekt hun onstuitbare creativiteit zeker niet. Evergrey is en blijft meester in emotionele metal.&nbsp;</p>
DESCRIPTION:<a href='/agenda/2026/6/13/evergrey-166773'>/agenda/2026/6/13/evergrey-166773</a> || <p>De Zweedse progressieve metalband Evergrey creëert met verpletterende riffs, levendige modulaties en symfonische vlagen, donkere teksten en zanger Tom S. Englunds rauwe stem meeslepende verhalen en sensationele sonische werelden. <br><br></p><p>In de dertig jaar dat Evergrey meegaat heeft de band zestien studioalbums uitgebracht. In 2025 kwam hier hun nieuwe single <em>OXYGEN!</em> bij. Met Vikram Shankar (van Within Temptation en Silent Skies) in het productieteam en Adam Getgood (die eerde met giganten als Periphery, Sleep Token en Architects werkte) voor de mix houdt de band hun sound vitaal en modern. Op tours door Europa, Noord en Zuid Amerika, Azië trekt de band diehards en jonge fans en op het podium ontbreekt hun onstuitbare creativiteit zeker niet. Evergrey is en blijft meester in emotionele metal.&nbsp;</p>
LAST-MODIFIED:20260425T220655Z
LOCATION: Poppodium Boerderij | Amerikaweg 145 Zoetermeer
SEQUENCE:0
STATUS:CONFIRMED
SUMMARY:Evergrey
TRANSP:OPAQUE
END:VEVENT
END:VCALENDAR
