BEGIN:VCALENDAR
PRODID:-//PUBBLE//agenda//NL
VERSION:2.0
METHOD:PUBLISH
BEGIN:VEVENT
DTSTART:20261210T173000Z
DTEND:20261210T213000Z
DTSTAMP:20260426T000409Z
UID:e55b0bec-d1b6-46c6-85a4-84dd7a7bb852
CREATED:20260426T000409Z
NAME:Moving Pictures streekbladzoetermeer.nl
X-WR-CALNAME:Moving Pictures
X-ALT-DESC;FMTTYPE=text/html:<a href='/agenda/2026/12/10/moving-pictures-166772'>/agenda/2026/12/10/moving-pictures-166772</a> || <p>Powertrio Moving Pictures is een vooraanstaande Rush tribute band die wereldwijd heeft opgetreden, waaronder op Rush-conventies in Brazilië, Schotland en Nederland, en zelfs voor de familie van wijlen drummer Neil Peart.</p><p>Ze brengen regelmatig energieke shows van meer dan 2 uur met zorgvuldig gekozen nummers uit elk Rush-tijdperk, inclusief hele platen. Deze keer speelt de band de volledige 2112 suite plus andere Rush classics en ‘deep cuts’. Moving Pictures staat bekend om hun vakmanschap op gitaren, bassen en double necks en weet de kenmerkende sfeer van Rush-concerten over te brengen. Niet zomaar een coverband; maar ambassadeurs van het rijke muzikale erfgoed van Rush en een favoriet onder liefhebbers van progressieve rock wereldwijd.</p>
DESCRIPTION:<a href='/agenda/2026/12/10/moving-pictures-166772'>/agenda/2026/12/10/moving-pictures-166772</a> || <p>Powertrio Moving Pictures is een vooraanstaande Rush tribute band die wereldwijd heeft opgetreden, waaronder op Rush-conventies in Brazilië, Schotland en Nederland, en zelfs voor de familie van wijlen drummer Neil Peart.</p><p>Ze brengen regelmatig energieke shows van meer dan 2 uur met zorgvuldig gekozen nummers uit elk Rush-tijdperk, inclusief hele platen. Deze keer speelt de band de volledige 2112 suite plus andere Rush classics en ‘deep cuts’. Moving Pictures staat bekend om hun vakmanschap op gitaren, bassen en double necks en weet de kenmerkende sfeer van Rush-concerten over te brengen. Niet zomaar een coverband; maar ambassadeurs van het rijke muzikale erfgoed van Rush en een favoriet onder liefhebbers van progressieve rock wereldwijd.</p>
LAST-MODIFIED:20260426T000409Z
LOCATION: Poppodium Boerderij | Amerikaweg 145 Zoetermeer
SEQUENCE:0
STATUS:CONFIRMED
SUMMARY:Moving Pictures
TRANSP:OPAQUE
END:VEVENT
END:VCALENDAR
