BEGIN:VCALENDAR
PRODID:-//PUBBLE//agenda//NL
VERSION:2.0
METHOD:PUBLISH
BEGIN:VEVENT
DTSTART:20260522T173000Z
DTEND:20260522T213000Z
DTSTAMP:20260425T220832Z
UID:8c4e91cc-1492-47bb-a711-0e1bbcb57125
CREATED:20260425T220832Z
NAME:Hedvig Mollestad Trio streekbladzoetermeer.nl
X-WR-CALNAME:Hedvig Mollestad Trio
X-ALT-DESC;FMTTYPE=text/html:<a href='/agenda/2026/5/22/hedvig-mollestad-trio-166770'>/agenda/2026/5/22/hedvig-mollestad-trio-166770</a> || <p>Mollestads muzikale signatuur ontstond uit haar liefde voor uiteenlopende stijlen en wordt vaak omschreven als een unieke kruising van jazz en rock. Op hun achtste album&nbsp;Bees in the Bonnet&nbsp;verkent het Hedvig Mollestad Trio opnieuw het spanningsveld tussen stoner, jazz, prog&nbsp;rock en psychedelica. Met hun kenmerkende hechte samenspel, krachtige energie en speelse benadering heeft het trio weer een indrukwekkende album afgeleverd en zijn zij klaar om dit live ten gehore te brengen.</p><p>Sinds de oprichting van HM3 in 2009 groeide de band uit tot een internationaal gewaardeerd trio, met prijzen, lovende recensies en intensieve tournees door Europa en Noord-Amerika. Na een pauze van bijna vier jaar klinkt Bees in the Bonnet energiek en fris. De hernieuwde samenwerking met bassist Ellen Brekken en drummer Ivar Loe Bjørnstad resulteert in een album dat zowel uitdagend als toegankelijk is. Invloeden van Terje Rypdal, Rush, ZZ Top en Motorpsycho zijn hoorbaar, zonder dat de band haar eigen karakter verliest. Met singles als<em>&nbsp;Golden Griffin, Lamament</em> en <em>Bob’s Your Giddy Aun</em>t bevestigt HM3 hun reputatie als een band die virtuositeit koppelt aan speelplezier.</p>
DESCRIPTION:<a href='/agenda/2026/5/22/hedvig-mollestad-trio-166770'>/agenda/2026/5/22/hedvig-mollestad-trio-166770</a> || <p>Mollestads muzikale signatuur ontstond uit haar liefde voor uiteenlopende stijlen en wordt vaak omschreven als een unieke kruising van jazz en rock. Op hun achtste album&nbsp;Bees in the Bonnet&nbsp;verkent het Hedvig Mollestad Trio opnieuw het spanningsveld tussen stoner, jazz, prog&nbsp;rock en psychedelica. Met hun kenmerkende hechte samenspel, krachtige energie en speelse benadering heeft het trio weer een indrukwekkende album afgeleverd en zijn zij klaar om dit live ten gehore te brengen.</p><p>Sinds de oprichting van HM3 in 2009 groeide de band uit tot een internationaal gewaardeerd trio, met prijzen, lovende recensies en intensieve tournees door Europa en Noord-Amerika. Na een pauze van bijna vier jaar klinkt Bees in the Bonnet energiek en fris. De hernieuwde samenwerking met bassist Ellen Brekken en drummer Ivar Loe Bjørnstad resulteert in een album dat zowel uitdagend als toegankelijk is. Invloeden van Terje Rypdal, Rush, ZZ Top en Motorpsycho zijn hoorbaar, zonder dat de band haar eigen karakter verliest. Met singles als<em>&nbsp;Golden Griffin, Lamament</em> en <em>Bob’s Your Giddy Aun</em>t bevestigt HM3 hun reputatie als een band die virtuositeit koppelt aan speelplezier.</p>
LAST-MODIFIED:20260425T220832Z
LOCATION: Poppodium Boerderij | Amerikaweg 145 Zoetermeer
SEQUENCE:0
STATUS:CONFIRMED
SUMMARY:Hedvig Mollestad Trio
TRANSP:OPAQUE
END:VEVENT
END:VCALENDAR
