BEGIN:VCALENDAR
PRODID:-//PUBBLE//agenda//NL
VERSION:2.0
METHOD:PUBLISH
BEGIN:VEVENT
DTSTART:20261127T173000Z
DTEND:20261127T213000Z
DTSTAMP:20260426T000806Z
UID:d4fc35ff-206e-4ecf-acab-d777359ba263
CREATED:20260426T000806Z
NAME:John Hackett Band + special guest Heather Findlay streekbladzoetermeer.nl
X-WR-CALNAME:John Hackett Band + special guest Heather Findlay
X-ALT-DESC;FMTTYPE=text/html:<a href='/agenda/2026/11/27/john-hackett-band-special-guest-heather-findlay-166681'>/agenda/2026/11/27/john-hackett-band-special-guest-heather-findlay-166681</a> || <p>De John Hackett Band staat voor avontuurlijke, melodieuze progressieve rock. Met fluit, gitaar en een sterke ritmesectie verweeft de band rock, jazz, klassiek en funk tot een dynamisch geheel – van sfeervolle ballads tot krachtige instrumentale passages. Deze avond spelen zij eigen werk plus klassiekers van broer Steve Hackett uit de hoogtijdagen van de progressieve rock.</p><p>Fluitist en componist John Hackett is sinds het midden van de jaren zeventig een gerespecteerd en geliefd naam binnen de progressieve rockscene. Hij is vooral bekend van zijn samenwerkingen met zijn broer Steve Hackett op invloedrijke albums als Voyage of the Acolyte, Please Don’t Touch en Spectral Mornings, naast zijn eigen soloplaten <em>Checking Out Of London, Another Life</em> en <em>The Piper Plays His Tune.</em> Met de John Hackett Band brengt hij die rijke muzikale geschiedenis samen met een frisse, eigentijdse energie. Na de release van het veelgeprezen album <em>Red Institution</em> (2025) volgde een uitgebreide tour door het Verenigd Koninkrijk. In 2026 zet de band deze lijn voort met een internationale tour.</p><p><strong>Support + special guest</strong>: <strong>Heather Findlay</strong></p><p>Heather Findlay staat bekend om haar magische, expressieve stem en haar indrukwekkende carrière, onder meer als voormalig frontvrouw van Mostly Autumn. Deze avond verzorgt zij solo het voorprogramma en zal zij later als special guest samen met de John Hackett Band een aantal nummers meezingen.</p>
DESCRIPTION:<a href='/agenda/2026/11/27/john-hackett-band-special-guest-heather-findlay-166681'>/agenda/2026/11/27/john-hackett-band-special-guest-heather-findlay-166681</a> || <p>De John Hackett Band staat voor avontuurlijke, melodieuze progressieve rock. Met fluit, gitaar en een sterke ritmesectie verweeft de band rock, jazz, klassiek en funk tot een dynamisch geheel – van sfeervolle ballads tot krachtige instrumentale passages. Deze avond spelen zij eigen werk plus klassiekers van broer Steve Hackett uit de hoogtijdagen van de progressieve rock.</p><p>Fluitist en componist John Hackett is sinds het midden van de jaren zeventig een gerespecteerd en geliefd naam binnen de progressieve rockscene. Hij is vooral bekend van zijn samenwerkingen met zijn broer Steve Hackett op invloedrijke albums als Voyage of the Acolyte, Please Don’t Touch en Spectral Mornings, naast zijn eigen soloplaten <em>Checking Out Of London, Another Life</em> en <em>The Piper Plays His Tune.</em> Met de John Hackett Band brengt hij die rijke muzikale geschiedenis samen met een frisse, eigentijdse energie. Na de release van het veelgeprezen album <em>Red Institution</em> (2025) volgde een uitgebreide tour door het Verenigd Koninkrijk. In 2026 zet de band deze lijn voort met een internationale tour.</p><p><strong>Support + special guest</strong>: <strong>Heather Findlay</strong></p><p>Heather Findlay staat bekend om haar magische, expressieve stem en haar indrukwekkende carrière, onder meer als voormalig frontvrouw van Mostly Autumn. Deze avond verzorgt zij solo het voorprogramma en zal zij later als special guest samen met de John Hackett Band een aantal nummers meezingen.</p>
LAST-MODIFIED:20260426T000806Z
LOCATION: Poppodium Boerderij | Amerikaweg 145 Zoetermeer
SEQUENCE:0
STATUS:CONFIRMED
SUMMARY:John Hackett Band + special guest Heather Findlay
TRANSP:OPAQUE
END:VEVENT
END:VCALENDAR
